BEGIN:VCALENDAR
VERSION:2.0
PRODID:-//Marshall Radio - ECPv6.15.20//NONSGML v1.0//EN
CALSCALE:GREGORIAN
METHOD:PUBLISH
X-ORIGINAL-URL:https://marshallradio.net
X-WR-CALDESC:Events for Marshall Radio
REFRESH-INTERVAL;VALUE=DURATION:PT1H
X-Robots-Tag:noindex
X-PUBLISHED-TTL:PT1H
BEGIN:VTIMEZONE
TZID:America/Chicago
BEGIN:DAYLIGHT
TZOFFSETFROM:-0600
TZOFFSETTO:-0500
TZNAME:CDT
DTSTART:20230312T080000
END:DAYLIGHT
BEGIN:STANDARD
TZOFFSETFROM:-0500
TZOFFSETTO:-0600
TZNAME:CST
DTSTART:20231105T070000
END:STANDARD
BEGIN:DAYLIGHT
TZOFFSETFROM:-0600
TZOFFSETTO:-0500
TZNAME:CDT
DTSTART:20240310T080000
END:DAYLIGHT
BEGIN:STANDARD
TZOFFSETFROM:-0500
TZOFFSETTO:-0600
TZNAME:CST
DTSTART:20241103T070000
END:STANDARD
BEGIN:DAYLIGHT
TZOFFSETFROM:-0600
TZOFFSETTO:-0500
TZNAME:CDT
DTSTART:20250309T080000
END:DAYLIGHT
BEGIN:STANDARD
TZOFFSETFROM:-0500
TZOFFSETTO:-0600
TZNAME:CST
DTSTART:20251102T070000
END:STANDARD
BEGIN:DAYLIGHT
TZOFFSETFROM:-0600
TZOFFSETTO:-0500
TZNAME:CDT
DTSTART:20260308T080000
END:DAYLIGHT
BEGIN:STANDARD
TZOFFSETFROM:-0500
TZOFFSETTO:-0600
TZNAME:CST
DTSTART:20261101T070000
END:STANDARD
BEGIN:DAYLIGHT
TZOFFSETFROM:-0600
TZOFFSETTO:-0500
TZNAME:CDT
DTSTART:20270314T080000
END:DAYLIGHT
BEGIN:STANDARD
TZOFFSETFROM:-0500
TZOFFSETTO:-0600
TZNAME:CST
DTSTART:20271107T070000
END:STANDARD
END:VTIMEZONE
BEGIN:VEVENT
DTSTART;TZID=America/Chicago:20260415T123000
DTEND;TZID=America/Chicago:20260415T183000
DTSTAMP:20260425T143447
CREATED:20260401T025703Z
LAST-MODIFIED:20260401T025703Z
UID:10005511-1776256200-1776277800@marshallradio.net
SUMMARY:Red Cross Blood Drive-Ruthton
DESCRIPTION:Community Center\n\n501 Smith Avenue\nRuthton\, MN 56170 \n\n\nRuthton Community\n\n\n\n04/15/2026 | 12:30 PM – 06:30 PM \nNote: Help hope bloom! Give blood 4/13-30 for $15 e-gift card to merchant of choice. \n  \nIf you are 17 years of age\, 16 with parental consent\, in good health\, and weigh at least 110 pounds you’re eligible to give. \nMake your appointment to donate by heading to www.redcrossblood.org or give them a call @1-800-RED CROSS.
URL:https://marshallradio.net/event/red-cross-blood-drive-ruthton-7/
LOCATION:Ruthton Community Center\, 501 Smith Ave\, Ruthton\, MN\, 56170\, United States
CATEGORIES:Community,Event
ORGANIZER;CN="American Red Cross":MAILTO:support@redcrosstraining.org
END:VEVENT
BEGIN:VEVENT
DTSTART;TZID=America/Chicago:20251222T123000
DTEND;TZID=America/Chicago:20251222T183000
DTSTAMP:20260425T143447
CREATED:20251202T074814Z
LAST-MODIFIED:20251202T074814Z
UID:10004500-1766406600-1766428200@marshallradio.net
SUMMARY:Red Cross Blood Drive-Ruthton
DESCRIPTION:Community Center\n\n501 Smith Avenue\nRuthton\, MN 56170 \n\n12/22/2025 | 12:30 PM – 06:30 PM \nNote: Come give blood Dec. 19-Jan. 4 and get an exclusive long-sleeved Red Cross T-shirt\, ltd. qty! \n  \nIf you are 17 years of age\, 16 with parental consent\, in good health\, and weigh at least 110 pounds you’re eligible to give. \nMake your appointment to donate by heading to www.redcrossblood.org or give them a call @1-800-RED CROSS.
URL:https://marshallradio.net/event/red-cross-blood-drive-ruthton-6/
LOCATION:Ruthton Community Center\, 501 Smith Ave\, Ruthton\, MN\, 56170\, United States
CATEGORIES:Community,Event
ORGANIZER;CN="American Red Cross":MAILTO:support@redcrosstraining.org
END:VEVENT
BEGIN:VEVENT
DTSTART;TZID=America/Chicago:20251013T133000
DTEND;TZID=America/Chicago:20251013T183000
DTSTAMP:20260425T143447
CREATED:20251008T041324Z
LAST-MODIFIED:20251008T041324Z
UID:10004328-1760362200-1760380200@marshallradio.net
SUMMARY:Red Cross Blood Drive-Ruthton
DESCRIPTION:Community Center\n\n501 Smith Avenue\nRuthton\, MN 56170 \n\n10/13/2025 | 01:30 PM – 06:30 PM \nNote: Come to give blood Sept. 22-Oct. 19 for a $10 Amazon.com Gift Card by email! \n  \nIf you are 17 years of age\, 16 with parental consent\, in good health\, and weigh at least 110 pounds you’re eligible to give. \nMake your appointment to donate by heading to www.redcrossblood.org or give them a call @1-800-RED CROSS.
URL:https://marshallradio.net/event/red-cross-blood-drive-ruthton-5/
LOCATION:Ruthton Community Center\, 501 Smith Ave\, Ruthton\, MN\, 56170\, United States
CATEGORIES:Community,Event
ORGANIZER;CN="American Red Cross":MAILTO:support@redcrosstraining.org
END:VEVENT
BEGIN:VEVENT
DTSTART;TZID=America/Chicago:20250818T123000
DTEND;TZID=America/Chicago:20250818T183000
DTSTAMP:20260425T143447
CREATED:20250805T022619Z
LAST-MODIFIED:20250805T022619Z
UID:10004235-1755520200-1755541800@marshallradio.net
SUMMARY:Red Cross Blood Drive-Ruthton
DESCRIPTION:Community Center\n\n501 Smith Avenue\nRuthton\, MN 56170 \n\n08/18/2025 | 12:30 PM – 06:30 PM \nNote: Give Aug 1 to 28 for $15 e gift card & successful donations get A1C testing. \n  \nIf you are 17 years of age\, 16 with parental consent\, in good health\, and weigh at least 110 pounds you’re eligible to give. \nMake your appointment to donate by heading to www.redcrossblood.org or give them a call @1-800-RED CROSS.
URL:https://marshallradio.net/event/red-cross-blood-drive-ruthton-2/
LOCATION:Ruthton Community Center\, 501 Smith Ave\, Ruthton\, MN\, 56170\, United States
CATEGORIES:Community,Event
ORGANIZER;CN="American Red Cross":MAILTO:support@redcrosstraining.org
END:VEVENT
BEGIN:VEVENT
DTSTART;TZID=America/Chicago:20250416T123000
DTEND;TZID=America/Chicago:20250416T183000
DTSTAMP:20260425T143447
CREATED:20250409T194855Z
LAST-MODIFIED:20250409T194855Z
UID:10003868-1744806600-1744828200@marshallradio.net
SUMMARY:Red Cross Blood Drive-Ruthton
DESCRIPTION:Community Center\n\n501 Smith Avenue\nRuthton\, MN 56170 \n\n04/16/2025 | 12:30 PM – 06:30 PM \nNote: Come give 4/14 to 4/30 for a Red Cross T-shirt\, ltd. qty + chance to win $5K prize. \n  \nIf you are 17 years of age\, 16 with parental consent\, in good health\, and weigh at least 110 pounds you’re eligible to give. \nMake your appointment to donate by heading to  www.redcrossblood.org or give them a call @1-800-RED CROSS.
URL:https://marshallradio.net/event/red-cross-blood-drive-ruthton/
LOCATION:Ruthton Community Center\, 501 Smith Ave\, Ruthton\, MN\, 56170\, United States
CATEGORIES:Community,Event
ORGANIZER;CN="American Red Cross":MAILTO:support@redcrosstraining.org
END:VEVENT
BEGIN:VEVENT
DTSTART;TZID=America/Chicago:20250217T123000
DTEND;TZID=America/Chicago:20250217T183000
DTSTAMP:20260425T143447
CREATED:20250213T033105Z
LAST-MODIFIED:20250213T033105Z
UID:10003732-1739795400-1739817000@marshallradio.net
SUMMARY:Ruthton Blood Drive
DESCRIPTION:Donors are urgently needed to help build up the blood supply after thousands of donations went uncollected last month due to weather events. As a thank-you\, all who donate by Feb. 28th will receive a $15 e-gift card. To donate: Simply download the American Red Cross Blood Donor App\, visit RedCrossBlood.org\, or call 1-800-RED CROSS. All blood types needed. You can donate if you are 17 years of age or older(16 with parental consent)\, weigh at least 110 pounds and are in generally good health. \nDonate at the Blood Drive in Ruthton\, 12:30 pm – 6:30 pm\, at the Community Center.
URL:https://marshallradio.net/event/ruthton-blood-drive/
LOCATION:Ruthton Community Center\, 501 Smith Ave\, Ruthton\, MN\, 56170\, United States
CATEGORIES:Community,Event
END:VEVENT
BEGIN:VEVENT
DTSTART;TZID=America/Chicago:20241209T133000
DTEND;TZID=America/Chicago:20241209T183000
DTSTAMP:20260425T143447
CREATED:20241126T210446Z
LAST-MODIFIED:20241126T210446Z
UID:10003634-1733751000-1733769000@marshallradio.net
SUMMARY:Ruthton Community Blood Drive
DESCRIPTION:The American Red Cross asks you to give the gift of life this holiday season Monday\, Dec. 9th\, from 1:30 pm – 6:30 pm\, at the Community Center in Ruthton. Make an appointment to donate on  www.redcrossblood.org or call 1-800-RED CROSS.
URL:https://marshallradio.net/event/ruthton-community-blood-drive/
LOCATION:Ruthton Community Center\, 501 Smith Ave\, Ruthton\, MN\, 56170\, United States
CATEGORIES:Community,Event
ORGANIZER;CN="American Red Cross":MAILTO:support@redcrosstraining.org
END:VEVENT
END:VCALENDAR