BEGIN:VCALENDAR
VERSION:2.0
PRODID:-//Marshall Radio - ECPv6.15.20//NONSGML v1.0//EN
CALSCALE:GREGORIAN
METHOD:PUBLISH
X-WR-CALNAME:Marshall Radio
X-ORIGINAL-URL:https://marshallradio.net
X-WR-CALDESC:Events for Marshall Radio
REFRESH-INTERVAL;VALUE=DURATION:PT1H
X-Robots-Tag:noindex
X-PUBLISHED-TTL:PT1H
BEGIN:VTIMEZONE
TZID:America/Chicago
BEGIN:DAYLIGHT
TZOFFSETFROM:-0600
TZOFFSETTO:-0500
TZNAME:CDT
DTSTART:20240310T080000
END:DAYLIGHT
BEGIN:STANDARD
TZOFFSETFROM:-0500
TZOFFSETTO:-0600
TZNAME:CST
DTSTART:20241103T070000
END:STANDARD
BEGIN:DAYLIGHT
TZOFFSETFROM:-0600
TZOFFSETTO:-0500
TZNAME:CDT
DTSTART:20250309T080000
END:DAYLIGHT
BEGIN:STANDARD
TZOFFSETFROM:-0500
TZOFFSETTO:-0600
TZNAME:CST
DTSTART:20251102T070000
END:STANDARD
BEGIN:DAYLIGHT
TZOFFSETFROM:-0600
TZOFFSETTO:-0500
TZNAME:CDT
DTSTART:20260308T080000
END:DAYLIGHT
BEGIN:STANDARD
TZOFFSETFROM:-0500
TZOFFSETTO:-0600
TZNAME:CST
DTSTART:20261101T070000
END:STANDARD
BEGIN:DAYLIGHT
TZOFFSETFROM:-0600
TZOFFSETTO:-0500
TZNAME:CDT
DTSTART:20270314T080000
END:DAYLIGHT
BEGIN:STANDARD
TZOFFSETFROM:-0500
TZOFFSETTO:-0600
TZNAME:CST
DTSTART:20271107T070000
END:STANDARD
END:VTIMEZONE
BEGIN:VEVENT
DTSTART;TZID=America/Chicago:20260416T090000
DTEND;TZID=America/Chicago:20260416T150000
DTSTAMP:20260425T123741
CREATED:20260401T025849Z
LAST-MODIFIED:20260401T025849Z
UID:10005512-1776330000-1776351600@marshallradio.net
SUMMARY:Red Cross Blood Drive-Marshall
DESCRIPTION:MERIT Center\n\n1001 Erie Rd\nMarshall\, MN 56258 \n\n\nMarshall Community\n\n\n\n04/16/2026 | 09:00 AM – 03:00 PM \nNote: Help hope bloom! Give blood 4/13-30 for $15 e-gift card to merchant of choice. \n  \nIf you are 17 years of age\, 16 with parental consent\, in good health\, and weigh at least 110 pounds you’re eligible to give. \nMake your appointment to donate by heading to www.redcrossblood.org or give them a call @1-800-RED CROSS.
URL:https://marshallradio.net/event/red-cross-blood-drive-marshall-40/
LOCATION:Marshall MERIT Center\, 1001 Erie Rd\, Marshall\, MN\, 56258\, United States
CATEGORIES:Community,Event
ORGANIZER;CN="American Red Cross":MAILTO:support@redcrosstraining.org
END:VEVENT
BEGIN:VEVENT
DTSTART;TZID=America/Chicago:20260316T130000
DTEND;TZID=America/Chicago:20260316T180000
DTSTAMP:20260425T123741
CREATED:20260301T193321Z
LAST-MODIFIED:20260301T193321Z
UID:10004673-1773666000-1773684000@marshallradio.net
SUMMARY:Red Cross Blood Drive-Marshall
DESCRIPTION:MERIT Center\n\n1001 Erie Rd\nMarshall\, MN 56258 \n\n\nMarshall Community\n\n\n\n03/16/2026 | 01:00 PM – 06:00 PM \nNote: Give in March for a $15 Gift Card by email & successful donations get A1C testing! \n  \nIf you are 17 years of age\, 16 with parental consent\, in good health\, and weigh at least 110 pounds you’re eligible to give. \nMake your appointment to donate by heading to www.redcrossblood.org or give them a call @1-800-RED CROSS.
URL:https://marshallradio.net/event/red-cross-blood-drive-marshall-37/
LOCATION:Marshall MERIT Center\, 1001 Erie Rd\, Marshall\, MN\, 56258\, United States
CATEGORIES:Community,Event
ORGANIZER;CN="American Red Cross":MAILTO:support@redcrosstraining.org
END:VEVENT
BEGIN:VEVENT
DTSTART;TZID=America/Chicago:20260113T103000
DTEND;TZID=America/Chicago:20260113T153000
DTSTAMP:20260425T123741
CREATED:20260107T030415Z
LAST-MODIFIED:20260107T030415Z
UID:10004564-1768300200-1768318200@marshallradio.net
SUMMARY:Red Cross Blood Drive-Marshall
DESCRIPTION:MERIT Center\n\n1001 Erie Rd\nMarshall\, MN 56258 \n\n01/13/2026 | 10:30 AM – 03:30 PM \nNote: Come to give Jan. 1-25 for chance to win trip for 2 to Super Bowl LX in Cali! \n\n\n  \nIf you are 17 years of age\, 16 with parental consent\, in good health\, and weigh at least 110 pounds you’re eligible to give. \nMake your appointment to donate by heading to www.redcrossblood.org or give them a call @1-800-RED CROSS.
URL:https://marshallradio.net/event/red-cross-blood-drive-marshall-30/
LOCATION:Marshall MERIT Center\, 1001 Erie Rd\, Marshall\, MN\, 56258\, United States
CATEGORIES:Community,Event
ORGANIZER;CN="American Red Cross":MAILTO:support@redcrosstraining.org
END:VEVENT
BEGIN:VEVENT
DTSTART;TZID=America/Chicago:20251219T090000
DTEND;TZID=America/Chicago:20251219T150000
DTSTAMP:20260425T123741
CREATED:20251202T074605Z
LAST-MODIFIED:20251202T074605Z
UID:10004499-1766134800-1766156400@marshallradio.net
SUMMARY:Red Cross Blood Drive-Marshall
DESCRIPTION:MERIT Center\n\n1001 Erie Rd\nMarshall\, MN 56258 \n\n12/19/2025 | 09:00 AM – 03:00 PM \nNote: Come give blood Dec. 19-Jan. 4 and get an exclusive long-sleeved Red Cross T-shirt\, ltd. qty! \n  \nIf you are 17 years of age\, 16 with parental consent\, in good health\, and weigh at least 110 pounds you’re eligible to give. \nMake your appointment to donate by heading to www.redcrossblood.org or give them a call @1-800-RED CROSS.
URL:https://marshallradio.net/event/red-cross-blood-drive-marshall-28/
LOCATION:Marshall MERIT Center\, 1001 Erie Rd\, Marshall\, MN\, 56258\, United States
CATEGORIES:Community,Event
ORGANIZER;CN="American Red Cross":MAILTO:support@redcrosstraining.org
END:VEVENT
BEGIN:VEVENT
DTSTART;TZID=America/Chicago:20251114T090000
DTEND;TZID=America/Chicago:20251114T150000
DTSTAMP:20260425T123741
CREATED:20251102T232926Z
LAST-MODIFIED:20251102T232926Z
UID:10004415-1763110800-1763132400@marshallradio.net
SUMMARY:Red Cross Blood Drive-Marshall
DESCRIPTION:MERIT Center\n\n1001 Erie Rd\nMarshall\, MN 56258 \n\n11/14/2025 | 09:00 AM – 03:00 PM \nNote: Come to give blood Oct. 20-Nov. 16 for a $10 e-gift card + chance at $5K prize! \n  \nThe American Red Cross asks people to schedule time to give blood now to keep the blood supply stable ahead of the busy holiday season. Just one generous hour of time could be the lifesaving difference for patients in need. \nAs a thank-you\, those who come to give blood\, platelets or plasma Oct. 27-Nov. 16\, will receive $20 in e-gift cards to a merchant of choice. Plus\, all who come to give will receive automatic entry for a chance to win one of three $5\,000 gift cards. See RedCrossBlood.org/Harvest for details. \n  \nClick the link to see a list of upcoming Red Cross community blood drives in Minnesota or Dakotas for Oct. 22 – Nov. 22\, 2025. Please note that the drive schedule is subject to change. To see the latest\, go to RedCrossBlood.org. \n  \nIf you are 17 years of age\, 16 with parental consent\, in good health\, and weigh at least 110 pounds you’re eligible to give. \nMake your appointment to donate by heading to www.redcrossblood.org or give them a call @1-800-RED CROSS.
URL:https://marshallradio.net/event/red-cross-blood-drive-marshall-23/
LOCATION:Marshall MERIT Center\, 1001 Erie Rd\, Marshall\, MN\, 56258\, United States
CATEGORIES:Community,Event
ORGANIZER;CN="American Red Cross":MAILTO:support@redcrosstraining.org
END:VEVENT
BEGIN:VEVENT
DTSTART;TZID=America/Chicago:20251020T173000
DTEND;TZID=America/Chicago:20251020T193000
DTSTAMP:20260425T123741
CREATED:20251008T035854Z
LAST-MODIFIED:20251008T040805Z
UID:10004326-1760981400-1760988600@marshallradio.net
SUMMARY:Red Cross Blood Drive-Marshall
DESCRIPTION:MERIT Center\n\n1001 Erie Rd\nMarshall\, MN 56258 \n\n10/20/2025 | 12:00 PM – 06:00 PM \nNote: Come to give blood Oct. 20-Nov. 16 for a $10 e-gift card + chance at $5K prize! \n  \n  \nIf you are 17 years of age\, 16 with parental consent\, in good health\, and weigh at least 110 pounds you’re eligible to give. \nMake your appointment to donate by heading to www.redcrossblood.org or give them a call @1-800-RED CROSS.
URL:https://marshallradio.net/event/red-cross-blood-drive-ruthton-3/
LOCATION:Marshall MERIT Center\, 1001 Erie Rd\, Marshall\, MN\, 56258\, United States
CATEGORIES:Community,Event
ORGANIZER;CN="American Red Cross":MAILTO:support@redcrosstraining.org
END:VEVENT
BEGIN:VEVENT
DTSTART;TZID=America/Chicago:20250807T130000
DTEND;TZID=America/Chicago:20250807T180000
DTSTAMP:20260425T123741
CREATED:20250805T022005Z
LAST-MODIFIED:20250805T022005Z
UID:10004233-1754571600-1754589600@marshallradio.net
SUMMARY:Red Cross Blood Drive-Marshall
DESCRIPTION:MERIT Center\n\n1001 Erie Rd\nMarshall\, MN 56258 \n\n08/07/2025 | 01:00 PM – 06:00 PM \nNote: Give Aug 1 to 28 for $15 e gift card & successful donations get A1C testing. \n  \nIf you are 17 years of age\, 16 with parental consent\, in good health\, and weigh at least 110 pounds you’re eligible to give. \nMake your appointment to donate by heading to www.redcrossblood.org or give them a call @1-800-RED CROSS.
URL:https://marshallradio.net/event/red-cross-blood-drive-marshall-17/
LOCATION:Marshall MERIT Center\, 1001 Erie Rd\, Marshall\, MN\, 56258\, United States
CATEGORIES:Community,Event
ORGANIZER;CN="American Red Cross":MAILTO:support@redcrosstraining.org
END:VEVENT
BEGIN:VEVENT
DTSTART;TZID=America/Chicago:20250305T090000
DTEND;TZID=America/Chicago:20250305T150000
DTSTAMP:20260425T123741
CREATED:20250301T051324Z
LAST-MODIFIED:20250301T051324Z
UID:10003749-1741165200-1741186800@marshallradio.net
SUMMARY:Red Cross Blood Drive- Marshall
DESCRIPTION:MERIT Center\n\n1001 Erie Rd\nMarshall\, MN 56258 \n\n03/05/2025 | 09:00 AM – 03:00 PM \nNote: Give in March for a $10 Gift Card by email & successful donations get A1C testing. \n  \nIf you are 17 years of age\, 16 with parental consent\, in good health\, and weigh at least 110 pounds you’re eligible to give. \nMake your appointment to donate by heading to  www.redcrossblood.org or give them a call @1-800-RED CROSS.
URL:https://marshallradio.net/event/red-cross-blood-drive-marshall-2/
LOCATION:Marshall MERIT Center\, 1001 Erie Rd\, Marshall\, MN\, 56258\, United States
CATEGORIES:Community,Event
ORGANIZER;CN="American Red Cross":MAILTO:support@redcrosstraining.org
END:VEVENT
END:VCALENDAR