BEGIN:VCALENDAR
VERSION:2.0
PRODID:-//Marshall Radio - ECPv6.15.20//NONSGML v1.0//EN
CALSCALE:GREGORIAN
METHOD:PUBLISH
X-WR-CALNAME:Marshall Radio
X-ORIGINAL-URL:https://marshallradio.net
X-WR-CALDESC:Events for Marshall Radio
REFRESH-INTERVAL;VALUE=DURATION:PT1H
X-Robots-Tag:noindex
X-PUBLISHED-TTL:PT1H
BEGIN:VTIMEZONE
TZID:America/Chicago
BEGIN:DAYLIGHT
TZOFFSETFROM:-0600
TZOFFSETTO:-0500
TZNAME:CDT
DTSTART:20240310T080000
END:DAYLIGHT
BEGIN:STANDARD
TZOFFSETFROM:-0500
TZOFFSETTO:-0600
TZNAME:CST
DTSTART:20241103T070000
END:STANDARD
BEGIN:DAYLIGHT
TZOFFSETFROM:-0600
TZOFFSETTO:-0500
TZNAME:CDT
DTSTART:20250309T080000
END:DAYLIGHT
BEGIN:STANDARD
TZOFFSETFROM:-0500
TZOFFSETTO:-0600
TZNAME:CST
DTSTART:20251102T070000
END:STANDARD
BEGIN:DAYLIGHT
TZOFFSETFROM:-0600
TZOFFSETTO:-0500
TZNAME:CDT
DTSTART:20260308T080000
END:DAYLIGHT
BEGIN:STANDARD
TZOFFSETFROM:-0500
TZOFFSETTO:-0600
TZNAME:CST
DTSTART:20261101T070000
END:STANDARD
BEGIN:DAYLIGHT
TZOFFSETFROM:-0600
TZOFFSETTO:-0500
TZNAME:CDT
DTSTART:20270314T080000
END:DAYLIGHT
BEGIN:STANDARD
TZOFFSETFROM:-0500
TZOFFSETTO:-0600
TZNAME:CST
DTSTART:20271107T070000
END:STANDARD
END:VTIMEZONE
BEGIN:VEVENT
DTSTART;TZID=America/Chicago:20260418T100000
DTEND;TZID=America/Chicago:20260418T100000
DTSTAMP:20260423T063739
CREATED:20250414T224101Z
LAST-MODIFIED:20250414T224118Z
UID:10004025-1776506400-1776506400@marshallradio.net
SUMMARY:LEGO® Brick Club-Marshall\, Balaton\, Cottonwood
DESCRIPTION:Visit the Marshall\, Balaton\, or Cottonwood Library every third Saturday and build with LEGO® bricks! Holidays and other events may change this schedule. Events at the Balaton and Cottonwood Libraries end by noon. \nChildren in kindergarten through 5th grade (ages 6-11) are invited to participate. Each month has a different theme. Take the theme challenge\, and we’ll show off your creations at the library!
URL:https://marshallradio.net/event/lego-brick-club-marshall-balaton-cottonwood/2026-04-18/
LOCATION:Marshall-Lyon County Library\, 201 C St.\, Marshall\, MN\, 56258\, United States
CATEGORIES:Community,Event
END:VEVENT
BEGIN:VEVENT
DTSTART;TZID=America/Chicago:20260321T100000
DTEND;TZID=America/Chicago:20260321T100000
DTSTAMP:20260423T063739
CREATED:20250414T224101Z
LAST-MODIFIED:20250414T224118Z
UID:10004024-1774087200-1774087200@marshallradio.net
SUMMARY:LEGO® Brick Club-Marshall\, Balaton\, Cottonwood
DESCRIPTION:Visit the Marshall\, Balaton\, or Cottonwood Library every third Saturday and build with LEGO® bricks! Holidays and other events may change this schedule. Events at the Balaton and Cottonwood Libraries end by noon. \nChildren in kindergarten through 5th grade (ages 6-11) are invited to participate. Each month has a different theme. Take the theme challenge\, and we’ll show off your creations at the library!
URL:https://marshallradio.net/event/lego-brick-club-marshall-balaton-cottonwood/2026-03-21/
LOCATION:Marshall-Lyon County Library\, 201 C St.\, Marshall\, MN\, 56258\, United States
CATEGORIES:Community,Event
END:VEVENT
BEGIN:VEVENT
DTSTART;TZID=America/Chicago:20260221T100000
DTEND;TZID=America/Chicago:20260221T100000
DTSTAMP:20260423T063739
CREATED:20250414T224101Z
LAST-MODIFIED:20250414T224118Z
UID:10004023-1771668000-1771668000@marshallradio.net
SUMMARY:LEGO® Brick Club-Marshall\, Balaton\, Cottonwood
DESCRIPTION:Visit the Marshall\, Balaton\, or Cottonwood Library every third Saturday and build with LEGO® bricks! Holidays and other events may change this schedule. Events at the Balaton and Cottonwood Libraries end by noon. \nChildren in kindergarten through 5th grade (ages 6-11) are invited to participate. Each month has a different theme. Take the theme challenge\, and we’ll show off your creations at the library!
URL:https://marshallradio.net/event/lego-brick-club-marshall-balaton-cottonwood/2026-02-21/
LOCATION:Marshall-Lyon County Library\, 201 C St.\, Marshall\, MN\, 56258\, United States
CATEGORIES:Community,Event
END:VEVENT
BEGIN:VEVENT
DTSTART;TZID=America/Chicago:20260117T100000
DTEND;TZID=America/Chicago:20260117T100000
DTSTAMP:20260423T063739
CREATED:20250414T224101Z
LAST-MODIFIED:20250414T224118Z
UID:10004022-1768644000-1768644000@marshallradio.net
SUMMARY:LEGO® Brick Club-Marshall\, Balaton\, Cottonwood
DESCRIPTION:Visit the Marshall\, Balaton\, or Cottonwood Library every third Saturday and build with LEGO® bricks! Holidays and other events may change this schedule. Events at the Balaton and Cottonwood Libraries end by noon. \nChildren in kindergarten through 5th grade (ages 6-11) are invited to participate. Each month has a different theme. Take the theme challenge\, and we’ll show off your creations at the library!
URL:https://marshallradio.net/event/lego-brick-club-marshall-balaton-cottonwood/2026-01-17/
LOCATION:Marshall-Lyon County Library\, 201 C St.\, Marshall\, MN\, 56258\, United States
CATEGORIES:Community,Event
END:VEVENT
BEGIN:VEVENT
DTSTART;TZID=America/Chicago:20251220T100000
DTEND;TZID=America/Chicago:20251220T100000
DTSTAMP:20260423T063739
CREATED:20250414T224101Z
LAST-MODIFIED:20250414T224118Z
UID:10004021-1766224800-1766224800@marshallradio.net
SUMMARY:LEGO® Brick Club-Marshall\, Balaton\, Cottonwood
DESCRIPTION:Visit the Marshall\, Balaton\, or Cottonwood Library every third Saturday and build with LEGO® bricks! Holidays and other events may change this schedule. Events at the Balaton and Cottonwood Libraries end by noon. \nChildren in kindergarten through 5th grade (ages 6-11) are invited to participate. Each month has a different theme. Take the theme challenge\, and we’ll show off your creations at the library!
URL:https://marshallradio.net/event/lego-brick-club-marshall-balaton-cottonwood/2025-12-20/
LOCATION:Marshall-Lyon County Library\, 201 C St.\, Marshall\, MN\, 56258\, United States
CATEGORIES:Community,Event
END:VEVENT
BEGIN:VEVENT
DTSTART;TZID=America/Chicago:20251115T100000
DTEND;TZID=America/Chicago:20251115T100000
DTSTAMP:20260423T063739
CREATED:20250414T224101Z
LAST-MODIFIED:20250414T224118Z
UID:10004020-1763200800-1763200800@marshallradio.net
SUMMARY:LEGO® Brick Club-Marshall\, Balaton\, Cottonwood
DESCRIPTION:Visit the Marshall\, Balaton\, or Cottonwood Library every third Saturday and build with LEGO® bricks! Holidays and other events may change this schedule. Events at the Balaton and Cottonwood Libraries end by noon. \nChildren in kindergarten through 5th grade (ages 6-11) are invited to participate. Each month has a different theme. Take the theme challenge\, and we’ll show off your creations at the library!
URL:https://marshallradio.net/event/lego-brick-club-marshall-balaton-cottonwood/2025-11-15/
LOCATION:Marshall-Lyon County Library\, 201 C St.\, Marshall\, MN\, 56258\, United States
CATEGORIES:Community,Event
END:VEVENT
BEGIN:VEVENT
DTSTART;TZID=America/Chicago:20251018T100000
DTEND;TZID=America/Chicago:20251018T100000
DTSTAMP:20260423T063739
CREATED:20250414T224101Z
LAST-MODIFIED:20250414T224118Z
UID:10004019-1760781600-1760781600@marshallradio.net
SUMMARY:LEGO® Brick Club-Marshall\, Balaton\, Cottonwood
DESCRIPTION:Visit the Marshall\, Balaton\, or Cottonwood Library every third Saturday and build with LEGO® bricks! Holidays and other events may change this schedule. Events at the Balaton and Cottonwood Libraries end by noon. \nChildren in kindergarten through 5th grade (ages 6-11) are invited to participate. Each month has a different theme. Take the theme challenge\, and we’ll show off your creations at the library!
URL:https://marshallradio.net/event/lego-brick-club-marshall-balaton-cottonwood/2025-10-18/
LOCATION:Marshall-Lyon County Library\, 201 C St.\, Marshall\, MN\, 56258\, United States
CATEGORIES:Community,Event
END:VEVENT
BEGIN:VEVENT
DTSTART;TZID=America/Chicago:20250920T100000
DTEND;TZID=America/Chicago:20250920T100000
DTSTAMP:20260423T063739
CREATED:20250414T224101Z
LAST-MODIFIED:20250414T224118Z
UID:10004018-1758362400-1758362400@marshallradio.net
SUMMARY:LEGO® Brick Club-Marshall\, Balaton\, Cottonwood
DESCRIPTION:Visit the Marshall\, Balaton\, or Cottonwood Library every third Saturday and build with LEGO® bricks! Holidays and other events may change this schedule. Events at the Balaton and Cottonwood Libraries end by noon. \nChildren in kindergarten through 5th grade (ages 6-11) are invited to participate. Each month has a different theme. Take the theme challenge\, and we’ll show off your creations at the library!
URL:https://marshallradio.net/event/lego-brick-club-marshall-balaton-cottonwood/2025-09-20/
LOCATION:Marshall-Lyon County Library\, 201 C St.\, Marshall\, MN\, 56258\, United States
CATEGORIES:Community,Event
END:VEVENT
BEGIN:VEVENT
DTSTART;TZID=America/Chicago:20250816T100000
DTEND;TZID=America/Chicago:20250816T100000
DTSTAMP:20260423T063739
CREATED:20250414T224101Z
LAST-MODIFIED:20250414T224118Z
UID:10004017-1755338400-1755338400@marshallradio.net
SUMMARY:LEGO® Brick Club-Marshall\, Balaton\, Cottonwood
DESCRIPTION:Visit the Marshall\, Balaton\, or Cottonwood Library every third Saturday and build with LEGO® bricks! Holidays and other events may change this schedule. Events at the Balaton and Cottonwood Libraries end by noon. \nChildren in kindergarten through 5th grade (ages 6-11) are invited to participate. Each month has a different theme. Take the theme challenge\, and we’ll show off your creations at the library!
URL:https://marshallradio.net/event/lego-brick-club-marshall-balaton-cottonwood/2025-08-16/
LOCATION:Marshall-Lyon County Library\, 201 C St.\, Marshall\, MN\, 56258\, United States
CATEGORIES:Community,Event
END:VEVENT
BEGIN:VEVENT
DTSTART;TZID=America/Chicago:20250719T100000
DTEND;TZID=America/Chicago:20250719T100000
DTSTAMP:20260423T063739
CREATED:20250414T224101Z
LAST-MODIFIED:20250414T224118Z
UID:10004016-1752919200-1752919200@marshallradio.net
SUMMARY:LEGO® Brick Club-Marshall\, Balaton\, Cottonwood
DESCRIPTION:Visit the Marshall\, Balaton\, or Cottonwood Library every third Saturday and build with LEGO® bricks! Holidays and other events may change this schedule. Events at the Balaton and Cottonwood Libraries end by noon. \nChildren in kindergarten through 5th grade (ages 6-11) are invited to participate. Each month has a different theme. Take the theme challenge\, and we’ll show off your creations at the library!
URL:https://marshallradio.net/event/lego-brick-club-marshall-balaton-cottonwood/2025-07-19/
LOCATION:Marshall-Lyon County Library\, 201 C St.\, Marshall\, MN\, 56258\, United States
CATEGORIES:Community,Event
END:VEVENT
BEGIN:VEVENT
DTSTART;TZID=America/Chicago:20250621T100000
DTEND;TZID=America/Chicago:20250621T100000
DTSTAMP:20260423T063739
CREATED:20250414T224101Z
LAST-MODIFIED:20250414T224118Z
UID:10004015-1750500000-1750500000@marshallradio.net
SUMMARY:LEGO® Brick Club-Marshall\, Balaton\, Cottonwood
DESCRIPTION:Visit the Marshall\, Balaton\, or Cottonwood Library every third Saturday and build with LEGO® bricks! Holidays and other events may change this schedule. Events at the Balaton and Cottonwood Libraries end by noon. \nChildren in kindergarten through 5th grade (ages 6-11) are invited to participate. Each month has a different theme. Take the theme challenge\, and we’ll show off your creations at the library!
URL:https://marshallradio.net/event/lego-brick-club-marshall-balaton-cottonwood/2025-06-21/
LOCATION:Marshall-Lyon County Library\, 201 C St.\, Marshall\, MN\, 56258\, United States
CATEGORIES:Community,Event
END:VEVENT
BEGIN:VEVENT
DTSTART;TZID=America/Chicago:20250517T100000
DTEND;TZID=America/Chicago:20250517T100000
DTSTAMP:20260423T063739
CREATED:20250414T224101Z
LAST-MODIFIED:20250414T224118Z
UID:10004014-1747476000-1747476000@marshallradio.net
SUMMARY:LEGO® Brick Club-Marshall\, Balaton\, Cottonwood
DESCRIPTION:Visit the Marshall\, Balaton\, or Cottonwood Library every third Saturday and build with LEGO® bricks! Holidays and other events may change this schedule. Events at the Balaton and Cottonwood Libraries end by noon. \nChildren in kindergarten through 5th grade (ages 6-11) are invited to participate. Each month has a different theme. Take the theme challenge\, and we’ll show off your creations at the library!
URL:https://marshallradio.net/event/lego-brick-club-marshall-balaton-cottonwood/2025-05-17/
LOCATION:Marshall-Lyon County Library\, 201 C St.\, Marshall\, MN\, 56258\, United States
CATEGORIES:Community,Event
END:VEVENT
BEGIN:VEVENT
DTSTART;TZID=America/Chicago:20250419T100000
DTEND;TZID=America/Chicago:20250419T100000
DTSTAMP:20260423T063739
CREATED:20250414T224101Z
LAST-MODIFIED:20250414T224118Z
UID:10004013-1745056800-1745056800@marshallradio.net
SUMMARY:LEGO® Brick Club-Marshall\, Balaton\, Cottonwood
DESCRIPTION:Visit the Marshall\, Balaton\, or Cottonwood Library every third Saturday and build with LEGO® bricks! Holidays and other events may change this schedule. Events at the Balaton and Cottonwood Libraries end by noon. \nChildren in kindergarten through 5th grade (ages 6-11) are invited to participate. Each month has a different theme. Take the theme challenge\, and we’ll show off your creations at the library!
URL:https://marshallradio.net/event/lego-brick-club-marshall-balaton-cottonwood/2025-04-19/
LOCATION:Marshall-Lyon County Library\, 201 C St.\, Marshall\, MN\, 56258\, United States
CATEGORIES:Community,Event
END:VEVENT
END:VCALENDAR