BEGIN:VCALENDAR
VERSION:2.0
PRODID:-//Marshall Radio - ECPv6.15.20//NONSGML v1.0//EN
CALSCALE:GREGORIAN
METHOD:PUBLISH
X-WR-CALNAME:Marshall Radio
X-ORIGINAL-URL:https://marshallradio.net
X-WR-CALDESC:Events for Marshall Radio
REFRESH-INTERVAL;VALUE=DURATION:PT1H
X-Robots-Tag:noindex
X-PUBLISHED-TTL:PT1H
BEGIN:VTIMEZONE
TZID:America/Chicago
BEGIN:DAYLIGHT
TZOFFSETFROM:-0600
TZOFFSETTO:-0500
TZNAME:CDT
DTSTART:20250309T080000
END:DAYLIGHT
BEGIN:STANDARD
TZOFFSETFROM:-0500
TZOFFSETTO:-0600
TZNAME:CST
DTSTART:20251102T070000
END:STANDARD
BEGIN:DAYLIGHT
TZOFFSETFROM:-0600
TZOFFSETTO:-0500
TZNAME:CDT
DTSTART:20260308T080000
END:DAYLIGHT
BEGIN:STANDARD
TZOFFSETFROM:-0500
TZOFFSETTO:-0600
TZNAME:CST
DTSTART:20261101T070000
END:STANDARD
BEGIN:DAYLIGHT
TZOFFSETFROM:-0600
TZOFFSETTO:-0500
TZNAME:CDT
DTSTART:20270314T080000
END:DAYLIGHT
BEGIN:STANDARD
TZOFFSETFROM:-0500
TZOFFSETTO:-0600
TZNAME:CST
DTSTART:20271107T070000
END:STANDARD
BEGIN:DAYLIGHT
TZOFFSETFROM:-0600
TZOFFSETTO:-0500
TZNAME:CDT
DTSTART:20280312T080000
END:DAYLIGHT
BEGIN:STANDARD
TZOFFSETFROM:-0500
TZOFFSETTO:-0600
TZNAME:CST
DTSTART:20281105T070000
END:STANDARD
BEGIN:DAYLIGHT
TZOFFSETFROM:-0600
TZOFFSETTO:-0500
TZNAME:CDT
DTSTART:20290311T080000
END:DAYLIGHT
BEGIN:STANDARD
TZOFFSETFROM:-0500
TZOFFSETTO:-0600
TZNAME:CST
DTSTART:20291104T070000
END:STANDARD
END:VTIMEZONE
BEGIN:VEVENT
DTSTART;TZID=America/Chicago:20260516T100000
DTEND;TZID=America/Chicago:20260516T100000
DTSTAMP:20260425T100133
CREATED:20260415T023402Z
LAST-MODIFIED:20260415T023402Z
UID:10005527-1778925600-1778925600@marshallradio.net
SUMMARY:Garvin Fire Dept. Car and Bike Show
DESCRIPTION:
URL:https://marshallradio.net/event/garvin-fire-dept-car-and-bike-show/
LOCATION:Garvin Fire Hall\, 125 Sherman St\, Garvin\, MN\, 56132\, United States
CATEGORIES:Community,Event
END:VEVENT
BEGIN:VEVENT
DTSTART;TZID=America/Chicago:20260517T080000
DTEND;TZID=America/Chicago:20260517T230000
DTSTAMP:20260425T100133
CREATED:20260318T234444Z
LAST-MODIFIED:20260318T234647Z
UID:10004728-1779004800-1779058800@marshallradio.net
SUMMARY:3rd Annual Small Town Burger Battle!!!
DESCRIPTION:
URL:https://marshallradio.net/event/3rd-annual-small-town-burger-battle/2026-05-17/
LOCATION:MN
CATEGORIES:Community,Event
ORGANIZER;CN="Small Town Events":MAILTO:smalltowneventsmn@gmail.com
END:VEVENT
BEGIN:VEVENT
DTSTART;TZID=America/Chicago:20260518T080000
DTEND;TZID=America/Chicago:20260518T230000
DTSTAMP:20260425T100133
CREATED:20260318T234444Z
LAST-MODIFIED:20260318T234647Z
UID:10004729-1779091200-1779145200@marshallradio.net
SUMMARY:3rd Annual Small Town Burger Battle!!!
DESCRIPTION:
URL:https://marshallradio.net/event/3rd-annual-small-town-burger-battle/2026-05-18/
LOCATION:MN
CATEGORIES:Community,Event
ORGANIZER;CN="Small Town Events":MAILTO:smalltowneventsmn@gmail.com
END:VEVENT
BEGIN:VEVENT
DTSTART;TZID=America/Chicago:20260519T080000
DTEND;TZID=America/Chicago:20260519T230000
DTSTAMP:20260425T100133
CREATED:20260318T234444Z
LAST-MODIFIED:20260318T234647Z
UID:10004730-1779177600-1779231600@marshallradio.net
SUMMARY:3rd Annual Small Town Burger Battle!!!
DESCRIPTION:
URL:https://marshallradio.net/event/3rd-annual-small-town-burger-battle/2026-05-19/
LOCATION:MN
CATEGORIES:Community,Event
ORGANIZER;CN="Small Town Events":MAILTO:smalltowneventsmn@gmail.com
END:VEVENT
BEGIN:VEVENT
DTSTART;TZID=America/Chicago:20260520T080000
DTEND;TZID=America/Chicago:20260520T230000
DTSTAMP:20260425T100134
CREATED:20260318T234444Z
LAST-MODIFIED:20260318T234647Z
UID:10004731-1779264000-1779318000@marshallradio.net
SUMMARY:3rd Annual Small Town Burger Battle!!!
DESCRIPTION:
URL:https://marshallradio.net/event/3rd-annual-small-town-burger-battle/2026-05-20/
LOCATION:MN
CATEGORIES:Community,Event
ORGANIZER;CN="Small Town Events":MAILTO:smalltowneventsmn@gmail.com
END:VEVENT
BEGIN:VEVENT
DTSTART;TZID=America/Chicago:20260521T080000
DTEND;TZID=America/Chicago:20260521T230000
DTSTAMP:20260425T100134
CREATED:20260318T234444Z
LAST-MODIFIED:20260318T234647Z
UID:10004732-1779350400-1779404400@marshallradio.net
SUMMARY:3rd Annual Small Town Burger Battle!!!
DESCRIPTION:
URL:https://marshallradio.net/event/3rd-annual-small-town-burger-battle/2026-05-21/
LOCATION:MN
CATEGORIES:Community,Event
ORGANIZER;CN="Small Town Events":MAILTO:smalltowneventsmn@gmail.com
END:VEVENT
BEGIN:VEVENT
DTSTART;TZID=America/Chicago:20260522T080000
DTEND;TZID=America/Chicago:20260522T230000
DTSTAMP:20260425T100134
CREATED:20260318T234444Z
LAST-MODIFIED:20260318T234647Z
UID:10004733-1779436800-1779490800@marshallradio.net
SUMMARY:3rd Annual Small Town Burger Battle!!!
DESCRIPTION:
URL:https://marshallradio.net/event/3rd-annual-small-town-burger-battle/2026-05-22/
LOCATION:MN
CATEGORIES:Community,Event
ORGANIZER;CN="Small Town Events":MAILTO:smalltowneventsmn@gmail.com
END:VEVENT
BEGIN:VEVENT
DTSTART;TZID=America/Chicago:20260612T110000
DTEND;TZID=America/Chicago:20260613T213000
DTSTAMP:20260425T100134
CREATED:20260325T015347Z
LAST-MODIFIED:20260325T015347Z
UID:10005495-1781262000-1781386200@marshallradio.net
SUMMARY:Worthington Windsurfing Regatta and Music Festival
DESCRIPTION: 
URL:https://marshallradio.net/event/worthington-windsurfing-regatta-and-music-festival-2/
LOCATION:sailboard beach worthington mn\, Sailboard Beach\, Worthington\, MN\, 56187
CATEGORIES:Community,Event
END:VEVENT
BEGIN:VEVENT
DTSTART;TZID=America/Chicago:20260620T100000
DTEND;TZID=America/Chicago:20260620T100000
DTSTAMP:20260425T100134
CREATED:20250414T224101Z
LAST-MODIFIED:20250414T224118Z
UID:10004027-1781949600-1781949600@marshallradio.net
SUMMARY:LEGO® Brick Club-Marshall\, Balaton\, Cottonwood
DESCRIPTION:Visit the Marshall\, Balaton\, or Cottonwood Library every third Saturday and build with LEGO® bricks! Holidays and other events may change this schedule. Events at the Balaton and Cottonwood Libraries end by noon. \nChildren in kindergarten through 5th grade (ages 6-11) are invited to participate. Each month has a different theme. Take the theme challenge\, and we’ll show off your creations at the library!
URL:https://marshallradio.net/event/lego-brick-club-marshall-balaton-cottonwood/2026-06-20/
LOCATION:Marshall-Lyon County Library\, 201 C St.\, Marshall\, MN\, 56258\, United States
CATEGORIES:Community,Event
END:VEVENT
BEGIN:VEVENT
DTSTART;TZID=America/Chicago:20260718T100000
DTEND;TZID=America/Chicago:20260718T100000
DTSTAMP:20260425T100134
CREATED:20250414T224101Z
LAST-MODIFIED:20250414T224118Z
UID:10004028-1784368800-1784368800@marshallradio.net
SUMMARY:LEGO® Brick Club-Marshall\, Balaton\, Cottonwood
DESCRIPTION:Visit the Marshall\, Balaton\, or Cottonwood Library every third Saturday and build with LEGO® bricks! Holidays and other events may change this schedule. Events at the Balaton and Cottonwood Libraries end by noon. \nChildren in kindergarten through 5th grade (ages 6-11) are invited to participate. Each month has a different theme. Take the theme challenge\, and we’ll show off your creations at the library!
URL:https://marshallradio.net/event/lego-brick-club-marshall-balaton-cottonwood/2026-07-18/
LOCATION:Marshall-Lyon County Library\, 201 C St.\, Marshall\, MN\, 56258\, United States
CATEGORIES:Community,Event
END:VEVENT
BEGIN:VEVENT
DTSTART;TZID=America/Chicago:20260815T100000
DTEND;TZID=America/Chicago:20260815T100000
DTSTAMP:20260425T100134
CREATED:20250414T224101Z
LAST-MODIFIED:20250414T224118Z
UID:10004029-1786788000-1786788000@marshallradio.net
SUMMARY:LEGO® Brick Club-Marshall\, Balaton\, Cottonwood
DESCRIPTION:Visit the Marshall\, Balaton\, or Cottonwood Library every third Saturday and build with LEGO® bricks! Holidays and other events may change this schedule. Events at the Balaton and Cottonwood Libraries end by noon. \nChildren in kindergarten through 5th grade (ages 6-11) are invited to participate. Each month has a different theme. Take the theme challenge\, and we’ll show off your creations at the library!
URL:https://marshallradio.net/event/lego-brick-club-marshall-balaton-cottonwood/2026-08-15/
LOCATION:Marshall-Lyon County Library\, 201 C St.\, Marshall\, MN\, 56258\, United States
CATEGORIES:Community,Event
END:VEVENT
BEGIN:VEVENT
DTSTART;TZID=America/Chicago:20260919T100000
DTEND;TZID=America/Chicago:20260919T100000
DTSTAMP:20260425T100134
CREATED:20250414T224101Z
LAST-MODIFIED:20250414T224118Z
UID:10004030-1789812000-1789812000@marshallradio.net
SUMMARY:LEGO® Brick Club-Marshall\, Balaton\, Cottonwood
DESCRIPTION:Visit the Marshall\, Balaton\, or Cottonwood Library every third Saturday and build with LEGO® bricks! Holidays and other events may change this schedule. Events at the Balaton and Cottonwood Libraries end by noon. \nChildren in kindergarten through 5th grade (ages 6-11) are invited to participate. Each month has a different theme. Take the theme challenge\, and we’ll show off your creations at the library!
URL:https://marshallradio.net/event/lego-brick-club-marshall-balaton-cottonwood/2026-09-19/
LOCATION:Marshall-Lyon County Library\, 201 C St.\, Marshall\, MN\, 56258\, United States
CATEGORIES:Community,Event
END:VEVENT
BEGIN:VEVENT
DTSTART;TZID=America/Chicago:20261017T100000
DTEND;TZID=America/Chicago:20261017T100000
DTSTAMP:20260425T100134
CREATED:20250414T224101Z
LAST-MODIFIED:20250414T224118Z
UID:10004031-1792231200-1792231200@marshallradio.net
SUMMARY:LEGO® Brick Club-Marshall\, Balaton\, Cottonwood
DESCRIPTION:Visit the Marshall\, Balaton\, or Cottonwood Library every third Saturday and build with LEGO® bricks! Holidays and other events may change this schedule. Events at the Balaton and Cottonwood Libraries end by noon. \nChildren in kindergarten through 5th grade (ages 6-11) are invited to participate. Each month has a different theme. Take the theme challenge\, and we’ll show off your creations at the library!
URL:https://marshallradio.net/event/lego-brick-club-marshall-balaton-cottonwood/2026-10-17/
LOCATION:Marshall-Lyon County Library\, 201 C St.\, Marshall\, MN\, 56258\, United States
CATEGORIES:Community,Event
END:VEVENT
BEGIN:VEVENT
DTSTART;TZID=America/Chicago:20261121T100000
DTEND;TZID=America/Chicago:20261121T100000
DTSTAMP:20260425T100134
CREATED:20250414T224101Z
LAST-MODIFIED:20250414T224118Z
UID:10004032-1795255200-1795255200@marshallradio.net
SUMMARY:LEGO® Brick Club-Marshall\, Balaton\, Cottonwood
DESCRIPTION:Visit the Marshall\, Balaton\, or Cottonwood Library every third Saturday and build with LEGO® bricks! Holidays and other events may change this schedule. Events at the Balaton and Cottonwood Libraries end by noon. \nChildren in kindergarten through 5th grade (ages 6-11) are invited to participate. Each month has a different theme. Take the theme challenge\, and we’ll show off your creations at the library!
URL:https://marshallradio.net/event/lego-brick-club-marshall-balaton-cottonwood/2026-11-21/
LOCATION:Marshall-Lyon County Library\, 201 C St.\, Marshall\, MN\, 56258\, United States
CATEGORIES:Community,Event
END:VEVENT
BEGIN:VEVENT
DTSTART;TZID=America/Chicago:20261219T100000
DTEND;TZID=America/Chicago:20261219T100000
DTSTAMP:20260425T100134
CREATED:20250414T224101Z
LAST-MODIFIED:20250414T224118Z
UID:10004033-1797674400-1797674400@marshallradio.net
SUMMARY:LEGO® Brick Club-Marshall\, Balaton\, Cottonwood
DESCRIPTION:Visit the Marshall\, Balaton\, or Cottonwood Library every third Saturday and build with LEGO® bricks! Holidays and other events may change this schedule. Events at the Balaton and Cottonwood Libraries end by noon. \nChildren in kindergarten through 5th grade (ages 6-11) are invited to participate. Each month has a different theme. Take the theme challenge\, and we’ll show off your creations at the library!
URL:https://marshallradio.net/event/lego-brick-club-marshall-balaton-cottonwood/2026-12-19/
LOCATION:Marshall-Lyon County Library\, 201 C St.\, Marshall\, MN\, 56258\, United States
CATEGORIES:Community,Event
END:VEVENT
BEGIN:VEVENT
DTSTART;TZID=America/Chicago:20270116T100000
DTEND;TZID=America/Chicago:20270116T100000
DTSTAMP:20260425T100134
CREATED:20250414T224101Z
LAST-MODIFIED:20250414T224118Z
UID:10004034-1800093600-1800093600@marshallradio.net
SUMMARY:LEGO® Brick Club-Marshall\, Balaton\, Cottonwood
DESCRIPTION:Visit the Marshall\, Balaton\, or Cottonwood Library every third Saturday and build with LEGO® bricks! Holidays and other events may change this schedule. Events at the Balaton and Cottonwood Libraries end by noon. \nChildren in kindergarten through 5th grade (ages 6-11) are invited to participate. Each month has a different theme. Take the theme challenge\, and we’ll show off your creations at the library!
URL:https://marshallradio.net/event/lego-brick-club-marshall-balaton-cottonwood/2027-01-16/
LOCATION:Marshall-Lyon County Library\, 201 C St.\, Marshall\, MN\, 56258\, United States
CATEGORIES:Community,Event
END:VEVENT
BEGIN:VEVENT
DTSTART;TZID=America/Chicago:20270220T100000
DTEND;TZID=America/Chicago:20270220T100000
DTSTAMP:20260425T100134
CREATED:20250414T224101Z
LAST-MODIFIED:20250414T224118Z
UID:10004035-1803117600-1803117600@marshallradio.net
SUMMARY:LEGO® Brick Club-Marshall\, Balaton\, Cottonwood
DESCRIPTION:Visit the Marshall\, Balaton\, or Cottonwood Library every third Saturday and build with LEGO® bricks! Holidays and other events may change this schedule. Events at the Balaton and Cottonwood Libraries end by noon. \nChildren in kindergarten through 5th grade (ages 6-11) are invited to participate. Each month has a different theme. Take the theme challenge\, and we’ll show off your creations at the library!
URL:https://marshallradio.net/event/lego-brick-club-marshall-balaton-cottonwood/2027-02-20/
LOCATION:Marshall-Lyon County Library\, 201 C St.\, Marshall\, MN\, 56258\, United States
CATEGORIES:Community,Event
END:VEVENT
BEGIN:VEVENT
DTSTART;TZID=America/Chicago:20270320T100000
DTEND;TZID=America/Chicago:20270320T100000
DTSTAMP:20260425T100134
CREATED:20250414T224101Z
LAST-MODIFIED:20250414T224118Z
UID:10004036-1805536800-1805536800@marshallradio.net
SUMMARY:LEGO® Brick Club-Marshall\, Balaton\, Cottonwood
DESCRIPTION:Visit the Marshall\, Balaton\, or Cottonwood Library every third Saturday and build with LEGO® bricks! Holidays and other events may change this schedule. Events at the Balaton and Cottonwood Libraries end by noon. \nChildren in kindergarten through 5th grade (ages 6-11) are invited to participate. Each month has a different theme. Take the theme challenge\, and we’ll show off your creations at the library!
URL:https://marshallradio.net/event/lego-brick-club-marshall-balaton-cottonwood/2027-03-20/
LOCATION:Marshall-Lyon County Library\, 201 C St.\, Marshall\, MN\, 56258\, United States
CATEGORIES:Community,Event
END:VEVENT
BEGIN:VEVENT
DTSTART;TZID=America/Chicago:20270417T100000
DTEND;TZID=America/Chicago:20270417T100000
DTSTAMP:20260425T100134
CREATED:20250414T224101Z
LAST-MODIFIED:20250414T224118Z
UID:10004037-1807956000-1807956000@marshallradio.net
SUMMARY:LEGO® Brick Club-Marshall\, Balaton\, Cottonwood
DESCRIPTION:Visit the Marshall\, Balaton\, or Cottonwood Library every third Saturday and build with LEGO® bricks! Holidays and other events may change this schedule. Events at the Balaton and Cottonwood Libraries end by noon. \nChildren in kindergarten through 5th grade (ages 6-11) are invited to participate. Each month has a different theme. Take the theme challenge\, and we’ll show off your creations at the library!
URL:https://marshallradio.net/event/lego-brick-club-marshall-balaton-cottonwood/2027-04-17/
LOCATION:Marshall-Lyon County Library\, 201 C St.\, Marshall\, MN\, 56258\, United States
CATEGORIES:Community,Event
END:VEVENT
BEGIN:VEVENT
DTSTART;TZID=America/Chicago:20270515T100000
DTEND;TZID=America/Chicago:20270515T100000
DTSTAMP:20260425T100134
CREATED:20250414T224101Z
LAST-MODIFIED:20250414T224118Z
UID:10004038-1810375200-1810375200@marshallradio.net
SUMMARY:LEGO® Brick Club-Marshall\, Balaton\, Cottonwood
DESCRIPTION:Visit the Marshall\, Balaton\, or Cottonwood Library every third Saturday and build with LEGO® bricks! Holidays and other events may change this schedule. Events at the Balaton and Cottonwood Libraries end by noon. \nChildren in kindergarten through 5th grade (ages 6-11) are invited to participate. Each month has a different theme. Take the theme challenge\, and we’ll show off your creations at the library!
URL:https://marshallradio.net/event/lego-brick-club-marshall-balaton-cottonwood/2027-05-15/
LOCATION:Marshall-Lyon County Library\, 201 C St.\, Marshall\, MN\, 56258\, United States
CATEGORIES:Community,Event
END:VEVENT
BEGIN:VEVENT
DTSTART;TZID=America/Chicago:20270619T100000
DTEND;TZID=America/Chicago:20270619T100000
DTSTAMP:20260425T100134
CREATED:20250414T224101Z
LAST-MODIFIED:20250414T224118Z
UID:10004039-1813399200-1813399200@marshallradio.net
SUMMARY:LEGO® Brick Club-Marshall\, Balaton\, Cottonwood
DESCRIPTION:Visit the Marshall\, Balaton\, or Cottonwood Library every third Saturday and build with LEGO® bricks! Holidays and other events may change this schedule. Events at the Balaton and Cottonwood Libraries end by noon. \nChildren in kindergarten through 5th grade (ages 6-11) are invited to participate. Each month has a different theme. Take the theme challenge\, and we’ll show off your creations at the library!
URL:https://marshallradio.net/event/lego-brick-club-marshall-balaton-cottonwood/2027-06-19/
LOCATION:Marshall-Lyon County Library\, 201 C St.\, Marshall\, MN\, 56258\, United States
CATEGORIES:Community,Event
END:VEVENT
BEGIN:VEVENT
DTSTART;TZID=America/Chicago:20270717T100000
DTEND;TZID=America/Chicago:20270717T100000
DTSTAMP:20260425T100134
CREATED:20250414T224101Z
LAST-MODIFIED:20250414T224118Z
UID:10004040-1815818400-1815818400@marshallradio.net
SUMMARY:LEGO® Brick Club-Marshall\, Balaton\, Cottonwood
DESCRIPTION:Visit the Marshall\, Balaton\, or Cottonwood Library every third Saturday and build with LEGO® bricks! Holidays and other events may change this schedule. Events at the Balaton and Cottonwood Libraries end by noon. \nChildren in kindergarten through 5th grade (ages 6-11) are invited to participate. Each month has a different theme. Take the theme challenge\, and we’ll show off your creations at the library!
URL:https://marshallradio.net/event/lego-brick-club-marshall-balaton-cottonwood/2027-07-17/
LOCATION:Marshall-Lyon County Library\, 201 C St.\, Marshall\, MN\, 56258\, United States
CATEGORIES:Community,Event
END:VEVENT
BEGIN:VEVENT
DTSTART;TZID=America/Chicago:20270821T100000
DTEND;TZID=America/Chicago:20270821T100000
DTSTAMP:20260425T100134
CREATED:20250414T224101Z
LAST-MODIFIED:20250414T224118Z
UID:10004041-1818842400-1818842400@marshallradio.net
SUMMARY:LEGO® Brick Club-Marshall\, Balaton\, Cottonwood
DESCRIPTION:Visit the Marshall\, Balaton\, or Cottonwood Library every third Saturday and build with LEGO® bricks! Holidays and other events may change this schedule. Events at the Balaton and Cottonwood Libraries end by noon. \nChildren in kindergarten through 5th grade (ages 6-11) are invited to participate. Each month has a different theme. Take the theme challenge\, and we’ll show off your creations at the library!
URL:https://marshallradio.net/event/lego-brick-club-marshall-balaton-cottonwood/2027-08-21/
LOCATION:Marshall-Lyon County Library\, 201 C St.\, Marshall\, MN\, 56258\, United States
CATEGORIES:Community,Event
END:VEVENT
BEGIN:VEVENT
DTSTART;TZID=America/Chicago:20270918T100000
DTEND;TZID=America/Chicago:20270918T100000
DTSTAMP:20260425T100134
CREATED:20250414T224101Z
LAST-MODIFIED:20250414T224118Z
UID:10004042-1821261600-1821261600@marshallradio.net
SUMMARY:LEGO® Brick Club-Marshall\, Balaton\, Cottonwood
DESCRIPTION:Visit the Marshall\, Balaton\, or Cottonwood Library every third Saturday and build with LEGO® bricks! Holidays and other events may change this schedule. Events at the Balaton and Cottonwood Libraries end by noon. \nChildren in kindergarten through 5th grade (ages 6-11) are invited to participate. Each month has a different theme. Take the theme challenge\, and we’ll show off your creations at the library!
URL:https://marshallradio.net/event/lego-brick-club-marshall-balaton-cottonwood/2027-09-18/
LOCATION:Marshall-Lyon County Library\, 201 C St.\, Marshall\, MN\, 56258\, United States
CATEGORIES:Community,Event
END:VEVENT
BEGIN:VEVENT
DTSTART;TZID=America/Chicago:20271016T100000
DTEND;TZID=America/Chicago:20271016T100000
DTSTAMP:20260425T100134
CREATED:20250414T224101Z
LAST-MODIFIED:20250414T224118Z
UID:10004043-1823680800-1823680800@marshallradio.net
SUMMARY:LEGO® Brick Club-Marshall\, Balaton\, Cottonwood
DESCRIPTION:Visit the Marshall\, Balaton\, or Cottonwood Library every third Saturday and build with LEGO® bricks! Holidays and other events may change this schedule. Events at the Balaton and Cottonwood Libraries end by noon. \nChildren in kindergarten through 5th grade (ages 6-11) are invited to participate. Each month has a different theme. Take the theme challenge\, and we’ll show off your creations at the library!
URL:https://marshallradio.net/event/lego-brick-club-marshall-balaton-cottonwood/2027-10-16/
LOCATION:Marshall-Lyon County Library\, 201 C St.\, Marshall\, MN\, 56258\, United States
CATEGORIES:Community,Event
END:VEVENT
BEGIN:VEVENT
DTSTART;TZID=America/Chicago:20271120T100000
DTEND;TZID=America/Chicago:20271120T100000
DTSTAMP:20260425T100134
CREATED:20250414T224101Z
LAST-MODIFIED:20250414T224118Z
UID:10004044-1826704800-1826704800@marshallradio.net
SUMMARY:LEGO® Brick Club-Marshall\, Balaton\, Cottonwood
DESCRIPTION:Visit the Marshall\, Balaton\, or Cottonwood Library every third Saturday and build with LEGO® bricks! Holidays and other events may change this schedule. Events at the Balaton and Cottonwood Libraries end by noon. \nChildren in kindergarten through 5th grade (ages 6-11) are invited to participate. Each month has a different theme. Take the theme challenge\, and we’ll show off your creations at the library!
URL:https://marshallradio.net/event/lego-brick-club-marshall-balaton-cottonwood/2027-11-20/
LOCATION:Marshall-Lyon County Library\, 201 C St.\, Marshall\, MN\, 56258\, United States
CATEGORIES:Community,Event
END:VEVENT
BEGIN:VEVENT
DTSTART;TZID=America/Chicago:20271218T100000
DTEND;TZID=America/Chicago:20271218T100000
DTSTAMP:20260425T100134
CREATED:20250414T224101Z
LAST-MODIFIED:20250414T224118Z
UID:10004045-1829124000-1829124000@marshallradio.net
SUMMARY:LEGO® Brick Club-Marshall\, Balaton\, Cottonwood
DESCRIPTION:Visit the Marshall\, Balaton\, or Cottonwood Library every third Saturday and build with LEGO® bricks! Holidays and other events may change this schedule. Events at the Balaton and Cottonwood Libraries end by noon. \nChildren in kindergarten through 5th grade (ages 6-11) are invited to participate. Each month has a different theme. Take the theme challenge\, and we’ll show off your creations at the library!
URL:https://marshallradio.net/event/lego-brick-club-marshall-balaton-cottonwood/2027-12-18/
LOCATION:Marshall-Lyon County Library\, 201 C St.\, Marshall\, MN\, 56258\, United States
CATEGORIES:Community,Event
END:VEVENT
BEGIN:VEVENT
DTSTART;TZID=America/Chicago:20280115T100000
DTEND;TZID=America/Chicago:20280115T100000
DTSTAMP:20260425T100134
CREATED:20250414T224101Z
LAST-MODIFIED:20250414T224118Z
UID:10004046-1831543200-1831543200@marshallradio.net
SUMMARY:LEGO® Brick Club-Marshall\, Balaton\, Cottonwood
DESCRIPTION:Visit the Marshall\, Balaton\, or Cottonwood Library every third Saturday and build with LEGO® bricks! Holidays and other events may change this schedule. Events at the Balaton and Cottonwood Libraries end by noon. \nChildren in kindergarten through 5th grade (ages 6-11) are invited to participate. Each month has a different theme. Take the theme challenge\, and we’ll show off your creations at the library!
URL:https://marshallradio.net/event/lego-brick-club-marshall-balaton-cottonwood/2028-01-15/
LOCATION:Marshall-Lyon County Library\, 201 C St.\, Marshall\, MN\, 56258\, United States
CATEGORIES:Community,Event
END:VEVENT
BEGIN:VEVENT
DTSTART;TZID=America/Chicago:20280219T100000
DTEND;TZID=America/Chicago:20280219T100000
DTSTAMP:20260425T100134
CREATED:20250414T224101Z
LAST-MODIFIED:20250414T224118Z
UID:10004047-1834567200-1834567200@marshallradio.net
SUMMARY:LEGO® Brick Club-Marshall\, Balaton\, Cottonwood
DESCRIPTION:Visit the Marshall\, Balaton\, or Cottonwood Library every third Saturday and build with LEGO® bricks! Holidays and other events may change this schedule. Events at the Balaton and Cottonwood Libraries end by noon. \nChildren in kindergarten through 5th grade (ages 6-11) are invited to participate. Each month has a different theme. Take the theme challenge\, and we’ll show off your creations at the library!
URL:https://marshallradio.net/event/lego-brick-club-marshall-balaton-cottonwood/2028-02-19/
LOCATION:Marshall-Lyon County Library\, 201 C St.\, Marshall\, MN\, 56258\, United States
CATEGORIES:Community,Event
END:VEVENT
BEGIN:VEVENT
DTSTART;TZID=America/Chicago:20280318T100000
DTEND;TZID=America/Chicago:20280318T100000
DTSTAMP:20260425T100134
CREATED:20250414T224101Z
LAST-MODIFIED:20250414T224118Z
UID:10004048-1836986400-1836986400@marshallradio.net
SUMMARY:LEGO® Brick Club-Marshall\, Balaton\, Cottonwood
DESCRIPTION:Visit the Marshall\, Balaton\, or Cottonwood Library every third Saturday and build with LEGO® bricks! Holidays and other events may change this schedule. Events at the Balaton and Cottonwood Libraries end by noon. \nChildren in kindergarten through 5th grade (ages 6-11) are invited to participate. Each month has a different theme. Take the theme challenge\, and we’ll show off your creations at the library!
URL:https://marshallradio.net/event/lego-brick-club-marshall-balaton-cottonwood/2028-03-18/
LOCATION:Marshall-Lyon County Library\, 201 C St.\, Marshall\, MN\, 56258\, United States
CATEGORIES:Community,Event
END:VEVENT
END:VCALENDAR