BEGIN:VCALENDAR
VERSION:2.0
PRODID:-//Marshall Radio - ECPv6.15.20//NONSGML v1.0//EN
CALSCALE:GREGORIAN
METHOD:PUBLISH
X-WR-CALNAME:Marshall Radio
X-ORIGINAL-URL:https://marshallradio.net
X-WR-CALDESC:Events for Marshall Radio
REFRESH-INTERVAL;VALUE=DURATION:PT1H
X-Robots-Tag:noindex
X-PUBLISHED-TTL:PT1H
BEGIN:VTIMEZONE
TZID:America/Chicago
BEGIN:DAYLIGHT
TZOFFSETFROM:-0600
TZOFFSETTO:-0500
TZNAME:CDT
DTSTART:20250309T080000
END:DAYLIGHT
BEGIN:STANDARD
TZOFFSETFROM:-0500
TZOFFSETTO:-0600
TZNAME:CST
DTSTART:20251102T070000
END:STANDARD
BEGIN:DAYLIGHT
TZOFFSETFROM:-0600
TZOFFSETTO:-0500
TZNAME:CDT
DTSTART:20260308T080000
END:DAYLIGHT
BEGIN:STANDARD
TZOFFSETFROM:-0500
TZOFFSETTO:-0600
TZNAME:CST
DTSTART:20261101T070000
END:STANDARD
BEGIN:DAYLIGHT
TZOFFSETFROM:-0600
TZOFFSETTO:-0500
TZNAME:CDT
DTSTART:20270314T080000
END:DAYLIGHT
BEGIN:STANDARD
TZOFFSETFROM:-0500
TZOFFSETTO:-0600
TZNAME:CST
DTSTART:20271107T070000
END:STANDARD
END:VTIMEZONE
BEGIN:VEVENT
DTSTART;TZID=America/Chicago:20260221T080000
DTEND;TZID=America/Chicago:20260221T230000
DTSTAMP:20260420T073038
CREATED:20260124T062054Z
LAST-MODIFIED:20260124T062054Z
UID:10004583-1771660800-1771714800@marshallradio.net
SUMMARY:FERRIS GRAND FUNDRASING EVENT-Pipestone
DESCRIPTION:FERRIS GRAND FUNDRASING EVENT \nThe Pipestone County Historical Society is once again hosting a Fundraising event in the beautiful\, historic Pipestone Masonic Lodge room. This event will be held on Saturday\, February 21\, 2026 at the second floor of the Ferris Grand Block located at 106 East Main Street. This is a ticketed event. The event will feature a four-course steak dinner provided by the Pipestone County Cattlemen and Staci’s Bar & Grill. Entertainment and games will be offered throughout the evening. \nThis fundraiser supports the on-going historic preservation of the Ferris Grand Block which houses the historic Masonic Lodge room and the Pipestone Performing Arts Center. Space in the building also provides for the Pipestone County Museum’s collection storage and exhibit space. The Pipestone County Historical Society has been pursuing a multi-phase project to rehabilitate the structure. They were recently awarded a grant in the amount of $177.142\, to repoint the masonry on three sides of the building which was made possible in part by the people of Minnesota through a grant funded by an appropriate to the Minnesota Historical Society from the Minnesota Arts and Cultural Heritage Fund. Work on this phase will begin in 2026. \nTickets for this limited event are available now at the Pipestone County Museum\, located at 113 S. Hiawatha Avenue\, in Pipestone. For more information about this event\, you may call the Museum at 507-825-2563 or email museum@pipestonecountymuseum.com
URL:https://marshallradio.net/event/ferris-grand-fundrasing-event-pipestone/
LOCATION:Pipestone County Museum\, 113 S Hiawatha Ave\, Pipestone\, MN\, 56164\, United States
CATEGORIES:Community,Event
END:VEVENT
BEGIN:VEVENT
DTSTART;TZID=America/Chicago:20260221T100000
DTEND;TZID=America/Chicago:20260221T100000
DTSTAMP:20260420T073038
CREATED:20250414T224101Z
LAST-MODIFIED:20250414T224118Z
UID:10004023-1771668000-1771668000@marshallradio.net
SUMMARY:LEGO® Brick Club-Marshall\, Balaton\, Cottonwood
DESCRIPTION:Visit the Marshall\, Balaton\, or Cottonwood Library every third Saturday and build with LEGO® bricks! Holidays and other events may change this schedule. Events at the Balaton and Cottonwood Libraries end by noon. \nChildren in kindergarten through 5th grade (ages 6-11) are invited to participate. Each month has a different theme. Take the theme challenge\, and we’ll show off your creations at the library!
URL:https://marshallradio.net/event/lego-brick-club-marshall-balaton-cottonwood/2026-02-21/
LOCATION:Marshall-Lyon County Library\, 201 C St.\, Marshall\, MN\, 56258\, United States
CATEGORIES:Community,Event
END:VEVENT
BEGIN:VEVENT
DTSTART;TZID=America/Chicago:20260221T183000
DTEND;TZID=America/Chicago:20260221T183000
DTSTAMP:20260420T073038
CREATED:20251014T032037Z
LAST-MODIFIED:20251014T032441Z
UID:10004359-1771698600-1771698600@marshallradio.net
SUMMARY:Walnut Grove Bar Bingo
DESCRIPTION:Bar Bingo\nLocation: Walnut Grove American Legion\nTime: 6:30pm\nWeekly :Starting Sat. Nov. 15th 2025 thru March 28th 2026\nSponsored by the Walnut Grove Area Loggers\nFunds are used for scholarships\, youth and elderly projects
URL:https://marshallradio.net/event/walnut-grove-bar-bingo-2/2026-02-21/
LOCATION:walnut grove american legion\, 700 Main St\, walnut grove\, MN\, 56180\, United States
CATEGORIES:Community,Event
END:VEVENT
END:VCALENDAR