BEGIN:VCALENDAR
VERSION:2.0
PRODID:-//Marshall Radio - ECPv6.15.20//NONSGML v1.0//EN
CALSCALE:GREGORIAN
METHOD:PUBLISH
X-ORIGINAL-URL:https://marshallradio.net
X-WR-CALDESC:Events for Marshall Radio
REFRESH-INTERVAL;VALUE=DURATION:PT1H
X-Robots-Tag:noindex
X-PUBLISHED-TTL:PT1H
BEGIN:VTIMEZONE
TZID:America/Chicago
BEGIN:DAYLIGHT
TZOFFSETFROM:-0600
TZOFFSETTO:-0500
TZNAME:CDT
DTSTART:20250309T080000
END:DAYLIGHT
BEGIN:STANDARD
TZOFFSETFROM:-0500
TZOFFSETTO:-0600
TZNAME:CST
DTSTART:20251102T070000
END:STANDARD
BEGIN:DAYLIGHT
TZOFFSETFROM:-0600
TZOFFSETTO:-0500
TZNAME:CDT
DTSTART:20260308T080000
END:DAYLIGHT
BEGIN:STANDARD
TZOFFSETFROM:-0500
TZOFFSETTO:-0600
TZNAME:CST
DTSTART:20261101T070000
END:STANDARD
BEGIN:DAYLIGHT
TZOFFSETFROM:-0600
TZOFFSETTO:-0500
TZNAME:CDT
DTSTART:20270314T080000
END:DAYLIGHT
BEGIN:STANDARD
TZOFFSETFROM:-0500
TZOFFSETTO:-0600
TZNAME:CST
DTSTART:20271107T070000
END:STANDARD
END:VTIMEZONE
BEGIN:VEVENT
DTSTART;TZID=America/Chicago:20260214T090000
DTEND;TZID=America/Chicago:20260214T090000
DTSTAMP:20260420T080059
CREATED:20260206T031429Z
LAST-MODIFIED:20260206T031429Z
UID:10004666-1771059600-1771059600@marshallradio.net
SUMMARY:Indoor Bean Bag Tournament & Bingo-Cottonwood
DESCRIPTION:
URL:https://marshallradio.net/event/indoor-bean-bag-tournament-bingo-cottonwood/
LOCATION:Cottonwood Community Center\, 142 W Main St\, Cottonwood\, MN\, 56229\, United States
CATEGORIES:Community,Event
ORGANIZER;CN="cottonwood area community foundation":MAILTO:cottonwoodacf@gmail.com
END:VEVENT
BEGIN:VEVENT
DTSTART;TZID=America/Chicago:20260214T130000
DTEND;TZID=America/Chicago:20260214T160000
DTSTAMP:20260420T080059
CREATED:20260206T031755Z
LAST-MODIFIED:20260206T031755Z
UID:10004667-1771074000-1771084800@marshallradio.net
SUMMARY:Tea and Sweets at the Lyon County Museum-Marshall
DESCRIPTION:
URL:https://marshallradio.net/event/tea-and-sweets-at-the-lyon-county-museum-marshall/
LOCATION:Lyon County Museum\, 301 West Lyon Street\, Marshall\, MN\, 56258\, United States
CATEGORIES:Community,Event
ORGANIZER;CN="Lyon County Museum":MAILTO:director@lyoncomuseum.org
END:VEVENT
BEGIN:VEVENT
DTSTART;TZID=America/Chicago:20260214T170000
DTEND;TZID=America/Chicago:20260214T170000
DTSTAMP:20260420T080059
CREATED:20260131T053839Z
LAST-MODIFIED:20260131T053839Z
UID:10004661-1771088400-1771088400@marshallradio.net
SUMMARY:Bingo & Ham Dinner-Arco
DESCRIPTION:
URL:https://marshallradio.net/event/bingo-ham-dinner-arco/
LOCATION:Arco Fire Hall\, 101 South Railroad St\, Arco\, MN\, 56113\, United States
CATEGORIES:Community,Event
END:VEVENT
BEGIN:VEVENT
DTSTART;TZID=America/Chicago:20260214T183000
DTEND;TZID=America/Chicago:20260214T183000
DTSTAMP:20260420T080059
CREATED:20251014T032037Z
LAST-MODIFIED:20251014T032441Z
UID:10004358-1771093800-1771093800@marshallradio.net
SUMMARY:Walnut Grove Bar Bingo
DESCRIPTION:Bar Bingo\nLocation: Walnut Grove American Legion\nTime: 6:30pm\nWeekly :Starting Sat. Nov. 15th 2025 thru March 28th 2026\nSponsored by the Walnut Grove Area Loggers\nFunds are used for scholarships\, youth and elderly projects
URL:https://marshallradio.net/event/walnut-grove-bar-bingo-2/2026-02-14/
LOCATION:walnut grove american legion\, 700 Main St\, walnut grove\, MN\, 56180\, United States
CATEGORIES:Community,Event
END:VEVENT
END:VCALENDAR