BEGIN:VCALENDAR
VERSION:2.0
PRODID:-//Marshall Radio - ECPv6.15.20//NONSGML v1.0//EN
CALSCALE:GREGORIAN
METHOD:PUBLISH
X-WR-CALNAME:Marshall Radio
X-ORIGINAL-URL:https://marshallradio.net
X-WR-CALDESC:Events for Marshall Radio
REFRESH-INTERVAL;VALUE=DURATION:PT1H
X-Robots-Tag:noindex
X-PUBLISHED-TTL:PT1H
BEGIN:VTIMEZONE
TZID:America/Chicago
BEGIN:DAYLIGHT
TZOFFSETFROM:-0600
TZOFFSETTO:-0500
TZNAME:CDT
DTSTART:20240310T080000
END:DAYLIGHT
BEGIN:STANDARD
TZOFFSETFROM:-0500
TZOFFSETTO:-0600
TZNAME:CST
DTSTART:20241103T070000
END:STANDARD
BEGIN:DAYLIGHT
TZOFFSETFROM:-0600
TZOFFSETTO:-0500
TZNAME:CDT
DTSTART:20250309T080000
END:DAYLIGHT
BEGIN:STANDARD
TZOFFSETFROM:-0500
TZOFFSETTO:-0600
TZNAME:CST
DTSTART:20251102T070000
END:STANDARD
BEGIN:DAYLIGHT
TZOFFSETFROM:-0600
TZOFFSETTO:-0500
TZNAME:CDT
DTSTART:20260308T080000
END:DAYLIGHT
BEGIN:STANDARD
TZOFFSETFROM:-0500
TZOFFSETTO:-0600
TZNAME:CST
DTSTART:20261101T070000
END:STANDARD
END:VTIMEZONE
BEGIN:VEVENT
DTSTART;TZID=America/Chicago:20251213T083000
DTEND;TZID=America/Chicago:20251213T100000
DTSTAMP:20260423T132238
CREATED:20251210T032425Z
LAST-MODIFIED:20251210T032425Z
UID:10004508-1765614600-1765620000@marshallradio.net
SUMMARY:Holy Redeemer Cookie Walk
DESCRIPTION:
URL:https://marshallradio.net/event/holy-redeemer-cookie-walk-2/
LOCATION:Holy Redeemer Catholic Church\, 503 W Lyon St.\, Marshall\, MN\, 56258\, United States
CATEGORIES:Community,Event
END:VEVENT
BEGIN:VEVENT
DTSTART;TZID=America/Chicago:20251213T100000
DTEND;TZID=America/Chicago:20251213T160000
DTSTAMP:20260423T132238
CREATED:20251023T033233Z
LAST-MODIFIED:20251023T034023Z
UID:10004387-1765620000-1765641600@marshallradio.net
SUMMARY:The 13th Annual Indoor Christmas Tree Walk-Marshall
DESCRIPTION:
URL:https://marshallradio.net/event/the-13th-annual-indoor-christmas-tree-walk-marshall/2025-12-13/
LOCATION:Lyon County Museum\, 301 West Lyon Street\, Marshall\, MN\, 56258\, United States
CATEGORIES:Community,Event
ORGANIZER;CN="Lyon County Museum":MAILTO:director@lyoncomuseum.org
END:VEVENT
BEGIN:VEVENT
DTSTART;TZID=America/Chicago:20251213T140000
DTEND;TZID=America/Chicago:20251213T140000
DTSTAMP:20260423T132239
CREATED:20251105T060926Z
LAST-MODIFIED:20251105T060926Z
UID:10004426-1765634400-1765634400@marshallradio.net
SUMMARY:TubaChristmas!!!-Marshall
DESCRIPTION:
URL:https://marshallradio.net/event/tubachristmas-marshall/
LOCATION:SMSU\, 1501 State St.\, Marshall\, MN\, 56258\, United States
CATEGORIES:Community,Event
END:VEVENT
BEGIN:VEVENT
DTSTART;TZID=America/Chicago:20251213T183000
DTEND;TZID=America/Chicago:20251213T183000
DTSTAMP:20260423T132239
CREATED:20251014T032037Z
LAST-MODIFIED:20251014T032441Z
UID:10004349-1765650600-1765650600@marshallradio.net
SUMMARY:Walnut Grove Bar Bingo
DESCRIPTION:Bar Bingo\nLocation: Walnut Grove American Legion\nTime: 6:30pm\nWeekly :Starting Sat. Nov. 15th 2025 thru March 28th 2026\nSponsored by the Walnut Grove Area Loggers\nFunds are used for scholarships\, youth and elderly projects
URL:https://marshallradio.net/event/walnut-grove-bar-bingo-2/2025-12-13/
LOCATION:walnut grove american legion\, 700 Main St\, walnut grove\, MN\, 56180\, United States
CATEGORIES:Community,Event
END:VEVENT
END:VCALENDAR