BEGIN:VCALENDAR
VERSION:2.0
PRODID:-//Marshall Radio - ECPv6.15.20//NONSGML v1.0//EN
CALSCALE:GREGORIAN
METHOD:PUBLISH
X-ORIGINAL-URL:https://marshallradio.net
X-WR-CALDESC:Events for Marshall Radio
REFRESH-INTERVAL;VALUE=DURATION:PT1H
X-Robots-Tag:noindex
X-PUBLISHED-TTL:PT1H
BEGIN:VTIMEZONE
TZID:America/Chicago
BEGIN:DAYLIGHT
TZOFFSETFROM:-0600
TZOFFSETTO:-0500
TZNAME:CDT
DTSTART:20250309T080000
END:DAYLIGHT
BEGIN:STANDARD
TZOFFSETFROM:-0500
TZOFFSETTO:-0600
TZNAME:CST
DTSTART:20251102T070000
END:STANDARD
BEGIN:DAYLIGHT
TZOFFSETFROM:-0600
TZOFFSETTO:-0500
TZNAME:CDT
DTSTART:20260308T080000
END:DAYLIGHT
BEGIN:STANDARD
TZOFFSETFROM:-0500
TZOFFSETTO:-0600
TZNAME:CST
DTSTART:20261101T070000
END:STANDARD
BEGIN:DAYLIGHT
TZOFFSETFROM:-0600
TZOFFSETTO:-0500
TZNAME:CDT
DTSTART:20270314T080000
END:DAYLIGHT
BEGIN:STANDARD
TZOFFSETFROM:-0500
TZOFFSETTO:-0600
TZNAME:CST
DTSTART:20271107T070000
END:STANDARD
END:VTIMEZONE
BEGIN:VEVENT
DTSTART;TZID=America/Chicago:20260502T080000
DTEND;TZID=America/Chicago:20260502T230000
DTSTAMP:20260420T113225
CREATED:20260318T234444Z
LAST-MODIFIED:20260318T234647Z
UID:10004713-1777708800-1777762800@marshallradio.net
SUMMARY:3rd Annual Small Town Burger Battle!!!
DESCRIPTION:
URL:https://marshallradio.net/event/3rd-annual-small-town-burger-battle/2026-05-02/
LOCATION:MN
CATEGORIES:Community,Event
ORGANIZER;CN="Small Town Events":MAILTO:smalltowneventsmn@gmail.com
END:VEVENT
BEGIN:VEVENT
DTSTART;TZID=America/Chicago:20260502T130000
DTEND;TZID=America/Chicago:20260502T160000
DTSTAMP:20260420T113225
CREATED:20260410T142355Z
LAST-MODIFIED:20260410T142355Z
UID:10005523-1777726800-1777737600@marshallradio.net
SUMMARY:Masonic Organization Presentation - Pipestone
DESCRIPTION:What do you know about Masons? The Pipestone County Historical Society will be hosting an informational program on the Masonic Organization\, one of the world’s oldest and largest fraternal organizations. Want to know more about them? Bill Hoskins\, Director of the Old Courthouse Museum in Sioux Falls\, SD\, will be returning to Pipestone on Saturday\, May 2 at 1:00 p.m. to share information about the Ancient Free and Accepted Masons.. \nThis event will be held in the Lodge Room of the former Pipestone Masonic Temple\, on the second floor of the Ferris Grand Block\, located at 106 East Main Street\, Pipestone. Please use the Main Street entrance. \nThe cost to attend is $5.00 or $3.00 for members of the Pipestone County Historical Society. \nThe Pipestone County Museum is located at 113 S. Hiawatha Avenue in Pipestone\, MN. If you have further questions\, you may call the Museum at (507) 825-2563 or email them at museum@pipestonecountymuseum.com.
URL:https://marshallradio.net/event/masonic-organization-presentation-pipestone/
LOCATION:Pipestone County Museum\, 113 S Hiawatha Ave\, Pipestone\, MN\, 56164\, United States
CATEGORIES:Community
ATTACH;FMTTYPE=image/jpeg:https://marshallradio.net/wp-content/uploads/2026/04/Bill-Hoskins-on-the-Masons.jpg
END:VEVENT
END:VCALENDAR