BEGIN:VCALENDAR
VERSION:2.0
PRODID:-//Marshall Radio - ECPv6.15.20//NONSGML v1.0//EN
CALSCALE:GREGORIAN
METHOD:PUBLISH
X-WR-CALNAME:Marshall Radio
X-ORIGINAL-URL:https://marshallradio.net
X-WR-CALDESC:Events for Marshall Radio
REFRESH-INTERVAL;VALUE=DURATION:PT1H
X-Robots-Tag:noindex
X-PUBLISHED-TTL:PT1H
BEGIN:VTIMEZONE
TZID:America/Chicago
BEGIN:DAYLIGHT
TZOFFSETFROM:-0600
TZOFFSETTO:-0500
TZNAME:CDT
DTSTART:20250309T080000
END:DAYLIGHT
BEGIN:STANDARD
TZOFFSETFROM:-0500
TZOFFSETTO:-0600
TZNAME:CST
DTSTART:20251102T070000
END:STANDARD
BEGIN:DAYLIGHT
TZOFFSETFROM:-0600
TZOFFSETTO:-0500
TZNAME:CDT
DTSTART:20260308T080000
END:DAYLIGHT
BEGIN:STANDARD
TZOFFSETFROM:-0500
TZOFFSETTO:-0600
TZNAME:CST
DTSTART:20261101T070000
END:STANDARD
BEGIN:DAYLIGHT
TZOFFSETFROM:-0600
TZOFFSETTO:-0500
TZNAME:CDT
DTSTART:20270314T080000
END:DAYLIGHT
BEGIN:STANDARD
TZOFFSETFROM:-0500
TZOFFSETTO:-0600
TZNAME:CST
DTSTART:20271107T070000
END:STANDARD
END:VTIMEZONE
BEGIN:VEVENT
DTSTART;TZID=America/Chicago:20260428T080000
DTEND;TZID=America/Chicago:20260428T230000
DTSTAMP:20260420T085313
CREATED:20260318T234444Z
LAST-MODIFIED:20260318T234647Z
UID:10004709-1777363200-1777417200@marshallradio.net
SUMMARY:3rd Annual Small Town Burger Battle!!!
DESCRIPTION:
URL:https://marshallradio.net/event/3rd-annual-small-town-burger-battle/2026-04-28/
LOCATION:MN
CATEGORIES:Community,Event
ORGANIZER;CN="Small Town Events":MAILTO:smalltowneventsmn@gmail.com
END:VEVENT
BEGIN:VEVENT
DTSTART;TZID=America/Chicago:20260428T120000
DTEND;TZID=America/Chicago:20260428T170000
DTSTAMP:20260420T085313
CREATED:20260401T030709Z
LAST-MODIFIED:20260401T030709Z
UID:10005516-1777377600-1777395600@marshallradio.net
SUMMARY:Red Cross Blood Drive-Marshall
DESCRIPTION:First Lutheran Church Marshall\n\n100 Church St\nMarshall\, MN 56258 \n\n\nFirst Lutheran Church\n\n\n\n04/28/2026 | 12:00 PM – 05:00 PM \nNote: Help hope bloom! Give blood 4/13-30 for $15 e-gift card to merchant of choice. \n  \nIf you are 17 years of age\, 16 with parental consent\, in good health\, and weigh at least 110 pounds you’re eligible to give. \nMake your appointment to donate by heading to www.redcrossblood.org or give them a call @1-800-RED CROSS.
URL:https://marshallradio.net/event/red-cross-blood-drive-marshall-43/
LOCATION:First Lutheran Church\, 100 Church St.\, Marshall\, MN\, 56258\, United States
CATEGORIES:Community,Event
ORGANIZER;CN="American Red Cross":MAILTO:support@redcrosstraining.org
END:VEVENT
BEGIN:VEVENT
DTSTART;TZID=America/Chicago:20260428T160000
DTEND;TZID=America/Chicago:20260428T173000
DTSTAMP:20260420T085313
CREATED:20260319T034228Z
LAST-MODIFIED:20260319T034228Z
UID:10005488-1777392000-1777397400@marshallradio.net
SUMMARY:SWCIL presents Driving Into Success
DESCRIPTION:
URL:https://marshallradio.net/event/swcil-presents-driving-into-success/2026-04-28/
LOCATION:MN
CATEGORIES:Community,Event
END:VEVENT
END:VCALENDAR