BEGIN:VCALENDAR
VERSION:2.0
PRODID:-//Marshall Radio - ECPv6.15.20//NONSGML v1.0//EN
CALSCALE:GREGORIAN
METHOD:PUBLISH
X-ORIGINAL-URL:https://marshallradio.net
X-WR-CALDESC:Events for Marshall Radio
REFRESH-INTERVAL;VALUE=DURATION:PT1H
X-Robots-Tag:noindex
X-PUBLISHED-TTL:PT1H
BEGIN:VTIMEZONE
TZID:America/Chicago
BEGIN:DAYLIGHT
TZOFFSETFROM:-0600
TZOFFSETTO:-0500
TZNAME:CDT
DTSTART:20250309T080000
END:DAYLIGHT
BEGIN:STANDARD
TZOFFSETFROM:-0500
TZOFFSETTO:-0600
TZNAME:CST
DTSTART:20251102T070000
END:STANDARD
BEGIN:DAYLIGHT
TZOFFSETFROM:-0600
TZOFFSETTO:-0500
TZNAME:CDT
DTSTART:20260308T080000
END:DAYLIGHT
BEGIN:STANDARD
TZOFFSETFROM:-0500
TZOFFSETTO:-0600
TZNAME:CST
DTSTART:20261101T070000
END:STANDARD
BEGIN:DAYLIGHT
TZOFFSETFROM:-0600
TZOFFSETTO:-0500
TZNAME:CDT
DTSTART:20270314T080000
END:DAYLIGHT
BEGIN:STANDARD
TZOFFSETFROM:-0500
TZOFFSETTO:-0600
TZNAME:CST
DTSTART:20271107T070000
END:STANDARD
END:VTIMEZONE
BEGIN:VEVENT
DTSTART;TZID=America/Chicago:20260405T073000
DTEND;TZID=America/Chicago:20260405T073000
DTSTAMP:20260420T113047
CREATED:20260319T003350Z
LAST-MODIFIED:20260319T003350Z
UID:10005475-1775374200-1775374200@marshallradio.net
SUMMARY:Easter Sunday at First Lutheran-Marshall
DESCRIPTION:  \nCome celebrate the joy and hope of Easter with us at First Lutheran Church! Join us for a vibrant and inspiring worship service (7:30am and 9:30am) as we rejoice in the resurrection of our Lord. With uplifting music\, a powerful message\, and a warm\, welcoming community\, Easter at First Lutheran is a time to reflect\, celebrate\, and experience the new life Christ offers. Bring your family and friends\, and let’s share in the joy of this blessed day together! We can’t wait to see you there. Both services include Holy Communion. \nAll are welcome!
URL:https://marshallradio.net/event/easter-sunday-at-first-lutheran-marshall/2026-04-05/1/
LOCATION:First Lutheran Church\, 100 Church St.\, Marshall\, MN\, 56258\, United States
CATEGORIES:Community,Event
END:VEVENT
BEGIN:VEVENT
DTSTART;TZID=America/Chicago:20260405T093000
DTEND;TZID=America/Chicago:20260405T093000
DTSTAMP:20260420T113047
CREATED:20260319T003350Z
LAST-MODIFIED:20260319T003350Z
UID:10005476-1775381400-1775381400@marshallradio.net
SUMMARY:Easter Sunday at First Lutheran-Marshall
DESCRIPTION:  \nCome celebrate the joy and hope of Easter with us at First Lutheran Church! Join us for a vibrant and inspiring worship service (7:30am and 9:30am) as we rejoice in the resurrection of our Lord. With uplifting music\, a powerful message\, and a warm\, welcoming community\, Easter at First Lutheran is a time to reflect\, celebrate\, and experience the new life Christ offers. Bring your family and friends\, and let’s share in the joy of this blessed day together! We can’t wait to see you there. Both services include Holy Communion. \nAll are welcome!
URL:https://marshallradio.net/event/easter-sunday-at-first-lutheran-marshall/2026-04-05/2/
LOCATION:First Lutheran Church\, 100 Church St.\, Marshall\, MN\, 56258\, United States
CATEGORIES:Community,Event
END:VEVENT
END:VCALENDAR