BEGIN:VCALENDAR
VERSION:2.0
PRODID:-//Marshall Radio - ECPv6.15.20//NONSGML v1.0//EN
CALSCALE:GREGORIAN
METHOD:PUBLISH
X-ORIGINAL-URL:https://marshallradio.net
X-WR-CALDESC:Events for Marshall Radio
REFRESH-INTERVAL;VALUE=DURATION:PT1H
X-Robots-Tag:noindex
X-PUBLISHED-TTL:PT1H
BEGIN:VTIMEZONE
TZID:America/Chicago
BEGIN:DAYLIGHT
TZOFFSETFROM:-0600
TZOFFSETTO:-0500
TZNAME:CDT
DTSTART:20250309T080000
END:DAYLIGHT
BEGIN:STANDARD
TZOFFSETFROM:-0500
TZOFFSETTO:-0600
TZNAME:CST
DTSTART:20251102T070000
END:STANDARD
BEGIN:DAYLIGHT
TZOFFSETFROM:-0600
TZOFFSETTO:-0500
TZNAME:CDT
DTSTART:20260308T080000
END:DAYLIGHT
BEGIN:STANDARD
TZOFFSETFROM:-0500
TZOFFSETTO:-0600
TZNAME:CST
DTSTART:20261101T070000
END:STANDARD
BEGIN:DAYLIGHT
TZOFFSETFROM:-0600
TZOFFSETTO:-0500
TZNAME:CDT
DTSTART:20270314T080000
END:DAYLIGHT
BEGIN:STANDARD
TZOFFSETFROM:-0500
TZOFFSETTO:-0600
TZNAME:CST
DTSTART:20271107T070000
END:STANDARD
END:VTIMEZONE
BEGIN:VEVENT
DTSTART;TZID=America/Chicago:20260401T110000
DTEND;TZID=America/Chicago:20260401T170000
DTSTAMP:20260420T141639
CREATED:20260401T025048Z
LAST-MODIFIED:20260401T025048Z
UID:10005508-1775041200-1775062800@marshallradio.net
SUMMARY:Red Cross Blood Drive-Marshall
DESCRIPTION:Southwest Minnesota State University Marshall\n\n1501 State Street\nMarshall\, MN 56258 \n\n\nSouthwest Minnesota State University Marshall\n\n\n\n04/01/2026 | 11:00 AM – 05:00 PM \nNote: NEW MERCH: Come give March 30-April 12 for an exclusive Red Cross x Life is Good T-shirt\, ltd. qty! \n  \nIf you are 17 years of age\, 16 with parental consent\, in good health\, and weigh at least 110 pounds you’re eligible to give. \nMake your appointment to donate by heading to www.redcrossblood.org or give them a call @1-800-RED CROSS.
URL:https://marshallradio.net/event/red-cross-blood-drive-marshall-39/
LOCATION:SMSU\, 1501 State St.\, Marshall\, MN\, 56258\, United States
CATEGORIES:Community,Event
ORGANIZER;CN="American Red Cross":MAILTO:support@redcrosstraining.org
END:VEVENT
BEGIN:VEVENT
DTSTART;TZID=America/Chicago:20260401T130000
DTEND;TZID=America/Chicago:20260401T190000
DTSTAMP:20260420T141639
CREATED:20260401T024900Z
LAST-MODIFIED:20260401T024900Z
UID:10005507-1775048400-1775070000@marshallradio.net
SUMMARY:Red Cross Blood Drive-Wood Lake
DESCRIPTION:Community Center\n\n88 – 2nd Avenue W\nWood Lake\, MN 56297 \n\n\nWood Lake Community\n\n\n\n04/01/2026 | 01:00 PM – 07:00 PM \nNote: NEW MERCH: Come give March 30-April 12 for an exclusive Red Cross x Life is Good T-shirt\, ltd. qty! \n  \nIf you are 17 years of age\, 16 with parental consent\, in good health\, and weigh at least 110 pounds you’re eligible to give. \nMake your appointment to donate by heading to www.redcrossblood.org or give them a call @1-800-RED CROSS.
URL:https://marshallradio.net/event/red-cross-blood-drive-wood-lake-6/
LOCATION:Wood Lake Community Center\, 88 2nd Ave W\, Wood Lake\, MN\, 56297\, United States
CATEGORIES:Community,Event
ORGANIZER;CN="American Red Cross":MAILTO:support@redcrosstraining.org
END:VEVENT
END:VCALENDAR