BEGIN:VCALENDAR
VERSION:2.0
PRODID:-//Marshall Radio - ECPv6.15.20//NONSGML v1.0//EN
CALSCALE:GREGORIAN
METHOD:PUBLISH
X-WR-CALNAME:Marshall Radio
X-ORIGINAL-URL:https://marshallradio.net
X-WR-CALDESC:Events for Marshall Radio
REFRESH-INTERVAL;VALUE=DURATION:PT1H
X-Robots-Tag:noindex
X-PUBLISHED-TTL:PT1H
BEGIN:VTIMEZONE
TZID:America/Chicago
BEGIN:DAYLIGHT
TZOFFSETFROM:-0600
TZOFFSETTO:-0500
TZNAME:CDT
DTSTART:20250309T080000
END:DAYLIGHT
BEGIN:STANDARD
TZOFFSETFROM:-0500
TZOFFSETTO:-0600
TZNAME:CST
DTSTART:20251102T070000
END:STANDARD
BEGIN:DAYLIGHT
TZOFFSETFROM:-0600
TZOFFSETTO:-0500
TZNAME:CDT
DTSTART:20260308T080000
END:DAYLIGHT
BEGIN:STANDARD
TZOFFSETFROM:-0500
TZOFFSETTO:-0600
TZNAME:CST
DTSTART:20261101T070000
END:STANDARD
BEGIN:DAYLIGHT
TZOFFSETFROM:-0600
TZOFFSETTO:-0500
TZNAME:CDT
DTSTART:20270314T080000
END:DAYLIGHT
BEGIN:STANDARD
TZOFFSETFROM:-0500
TZOFFSETTO:-0600
TZNAME:CST
DTSTART:20271107T070000
END:STANDARD
END:VTIMEZONE
BEGIN:VEVENT
DTSTART;TZID=America/Chicago:20260330T120000
DTEND;TZID=America/Chicago:20260330T180000
DTSTAMP:20260420T103328
CREATED:20260301T194258Z
LAST-MODIFIED:20260301T194258Z
UID:10004677-1774872000-1774893600@marshallradio.net
SUMMARY:Red Cross Blood Drive-Ivanhoe
DESCRIPTION:Bethany Elim Lutheran\n\n102 S Hwy 5\nIvanhoe\, MN 56142 \n\n\nIvanhoe Community\n\n\n\n03/30/2026 | 12:00 PM – 06:00 PM \nNote: NEW MERCH: Come give March 30-April 12 for an exclusive Red Cross x Life is Good T-shirt\, ltd. qty! \n  \nIf you are 17 years of age\, 16 with parental consent\, in good health\, and weigh at least 110 pounds you’re eligible to give. \nMake your appointment to donate by heading to www.redcrossblood.org or give them a call @1-800-RED CROSS.
URL:https://marshallradio.net/event/red-cross-blood-drive-ivanhoe-7/
LOCATION:Bethany Elim Lutheran\, 102 S Highway 5\, Ivanhoe\, MN\, 56142\, United States
CATEGORIES:Community,Event
ORGANIZER;CN="American Red Cross":MAILTO:support@redcrosstraining.org
END:VEVENT
END:VCALENDAR