BEGIN:VCALENDAR
VERSION:2.0
PRODID:-//Marshall Radio - ECPv6.15.20//NONSGML v1.0//EN
CALSCALE:GREGORIAN
METHOD:PUBLISH
X-ORIGINAL-URL:https://marshallradio.net
X-WR-CALDESC:Events for Marshall Radio
REFRESH-INTERVAL;VALUE=DURATION:PT1H
X-Robots-Tag:noindex
X-PUBLISHED-TTL:PT1H
BEGIN:VTIMEZONE
TZID:America/Chicago
BEGIN:DAYLIGHT
TZOFFSETFROM:-0600
TZOFFSETTO:-0500
TZNAME:CDT
DTSTART:20250309T080000
END:DAYLIGHT
BEGIN:STANDARD
TZOFFSETFROM:-0500
TZOFFSETTO:-0600
TZNAME:CST
DTSTART:20251102T070000
END:STANDARD
BEGIN:DAYLIGHT
TZOFFSETFROM:-0600
TZOFFSETTO:-0500
TZNAME:CDT
DTSTART:20260308T080000
END:DAYLIGHT
BEGIN:STANDARD
TZOFFSETFROM:-0500
TZOFFSETTO:-0600
TZNAME:CST
DTSTART:20261101T070000
END:STANDARD
BEGIN:DAYLIGHT
TZOFFSETFROM:-0600
TZOFFSETTO:-0500
TZNAME:CDT
DTSTART:20270314T080000
END:DAYLIGHT
BEGIN:STANDARD
TZOFFSETFROM:-0500
TZOFFSETTO:-0600
TZNAME:CST
DTSTART:20271107T070000
END:STANDARD
END:VTIMEZONE
BEGIN:VEVENT
DTSTART;TZID=America/Chicago:20260321T100000
DTEND;TZID=America/Chicago:20260321T100000
DTSTAMP:20260420T113037
CREATED:20250414T224101Z
LAST-MODIFIED:20250414T224118Z
UID:10004024-1774087200-1774087200@marshallradio.net
SUMMARY:LEGO® Brick Club-Marshall\, Balaton\, Cottonwood
DESCRIPTION:Visit the Marshall\, Balaton\, or Cottonwood Library every third Saturday and build with LEGO® bricks! Holidays and other events may change this schedule. Events at the Balaton and Cottonwood Libraries end by noon. \nChildren in kindergarten through 5th grade (ages 6-11) are invited to participate. Each month has a different theme. Take the theme challenge\, and we’ll show off your creations at the library!
URL:https://marshallradio.net/event/lego-brick-club-marshall-balaton-cottonwood/2026-03-21/
LOCATION:Marshall-Lyon County Library\, 201 C St.\, Marshall\, MN\, 56258\, United States
CATEGORIES:Community,Event
END:VEVENT
BEGIN:VEVENT
DTSTART;TZID=America/Chicago:20260321T170000
DTEND;TZID=America/Chicago:20260321T170000
DTSTAMP:20260420T113037
CREATED:20260318T233348Z
LAST-MODIFIED:20260318T233348Z
UID:10004685-1774112400-1774112400@marshallradio.net
SUMMARY:Bingo with Loaded Forever Fries-Arco
DESCRIPTION:
URL:https://marshallradio.net/event/bingo-with-loaded-forever-fries-arco/
LOCATION:Arco Fire Hall\, 101 South Railroad St\, Arco\, MN\, 56113\, United States
CATEGORIES:Community,Event
END:VEVENT
BEGIN:VEVENT
DTSTART;TZID=America/Chicago:20260321T183000
DTEND;TZID=America/Chicago:20260321T183000
DTSTAMP:20260420T113037
CREATED:20251014T032037Z
LAST-MODIFIED:20251014T032441Z
UID:10004363-1774117800-1774117800@marshallradio.net
SUMMARY:Walnut Grove Bar Bingo
DESCRIPTION:Bar Bingo\nLocation: Walnut Grove American Legion\nTime: 6:30pm\nWeekly :Starting Sat. Nov. 15th 2025 thru March 28th 2026\nSponsored by the Walnut Grove Area Loggers\nFunds are used for scholarships\, youth and elderly projects
URL:https://marshallradio.net/event/walnut-grove-bar-bingo-2/2026-03-21/
LOCATION:walnut grove american legion\, 700 Main St\, walnut grove\, MN\, 56180\, United States
CATEGORIES:Community,Event
END:VEVENT
END:VCALENDAR