BEGIN:VCALENDAR
VERSION:2.0
PRODID:-//Marshall Radio - ECPv6.15.20//NONSGML v1.0//EN
CALSCALE:GREGORIAN
METHOD:PUBLISH
X-WR-CALNAME:Marshall Radio
X-ORIGINAL-URL:https://marshallradio.net
X-WR-CALDESC:Events for Marshall Radio
REFRESH-INTERVAL;VALUE=DURATION:PT1H
X-Robots-Tag:noindex
X-PUBLISHED-TTL:PT1H
BEGIN:VTIMEZONE
TZID:America/Chicago
BEGIN:DAYLIGHT
TZOFFSETFROM:-0600
TZOFFSETTO:-0500
TZNAME:CDT
DTSTART:20240310T080000
END:DAYLIGHT
BEGIN:STANDARD
TZOFFSETFROM:-0500
TZOFFSETTO:-0600
TZNAME:CST
DTSTART:20241103T070000
END:STANDARD
BEGIN:DAYLIGHT
TZOFFSETFROM:-0600
TZOFFSETTO:-0500
TZNAME:CDT
DTSTART:20250309T080000
END:DAYLIGHT
BEGIN:STANDARD
TZOFFSETFROM:-0500
TZOFFSETTO:-0600
TZNAME:CST
DTSTART:20251102T070000
END:STANDARD
BEGIN:DAYLIGHT
TZOFFSETFROM:-0600
TZOFFSETTO:-0500
TZNAME:CDT
DTSTART:20260308T080000
END:DAYLIGHT
BEGIN:STANDARD
TZOFFSETFROM:-0500
TZOFFSETTO:-0600
TZNAME:CST
DTSTART:20261101T070000
END:STANDARD
END:VTIMEZONE
BEGIN:VEVENT
DTSTART;TZID=America/Chicago:20250212T080000
DTEND;TZID=America/Chicago:20250314T170000
DTSTAMP:20260420T084045
CREATED:20250219T042356Z
LAST-MODIFIED:20250219T042356Z
UID:10003739-1739347200-1741971600@marshallradio.net
SUMMARY:2nd Annual Small Town Burger Battle
DESCRIPTION:  \nThe Small Town Burger Battle is back\, follow Small Town Events LLC Facebook page for burger submissions and details.
URL:https://marshallradio.net/event/2nd-annual-small-town-burger-battle/
LOCATION:MN
CATEGORIES:Community,Event
ORGANIZER;CN="Small Town Events":MAILTO:smalltowneventsmn@gmail.com
END:VEVENT
BEGIN:VEVENT
DTSTART;TZID=America/Chicago:20250311T100000
DTEND;TZID=America/Chicago:20250311T160000
DTSTAMP:20260420T084045
CREATED:20250301T052023Z
LAST-MODIFIED:20250301T052023Z
UID:10003750-1741687200-1741708800@marshallradio.net
SUMMARY:Red Cross Blood Drive-Marshall
DESCRIPTION:Lyon County Government Center\n\n607 West Main St.\nMarshall\, MN 56258 \n\n03/11/2025 | 10:00 AM – 04:00 PM \nNote: Give in March for a $10 Gift Card by email & successful donations get A1C testing. \n  \nIf you are 17 years of age\, 16 with parental consent\, in good health\, and weigh at least 110 pounds you’re eligible to give. \nMake your appointment to donate by heading to  www.redcrossblood.org or give them a call @1-800-RED CROSS.
URL:https://marshallradio.net/event/red-cross-blood-drive-marshall-3/
LOCATION:Lyon County Government Center\, 607 W Main Street\, Marshall\, MN\, 56258\, United States
CATEGORIES:Community,Event
ORGANIZER;CN="American Red Cross":MAILTO:support@redcrosstraining.org
END:VEVENT
END:VCALENDAR