BEGIN:VCALENDAR
VERSION:2.0
PRODID:-//Marshall Radio - ECPv6.15.20//NONSGML v1.0//EN
CALSCALE:GREGORIAN
METHOD:PUBLISH
X-ORIGINAL-URL:https://marshallradio.net
X-WR-CALDESC:Events for Marshall Radio
REFRESH-INTERVAL;VALUE=DURATION:PT1H
X-Robots-Tag:noindex
X-PUBLISHED-TTL:PT1H
BEGIN:VTIMEZONE
TZID:America/Chicago
BEGIN:DAYLIGHT
TZOFFSETFROM:-0600
TZOFFSETTO:-0500
TZNAME:CDT
DTSTART:20230312T080000
END:DAYLIGHT
BEGIN:STANDARD
TZOFFSETFROM:-0500
TZOFFSETTO:-0600
TZNAME:CST
DTSTART:20231105T070000
END:STANDARD
BEGIN:DAYLIGHT
TZOFFSETFROM:-0600
TZOFFSETTO:-0500
TZNAME:CDT
DTSTART:20240310T080000
END:DAYLIGHT
BEGIN:STANDARD
TZOFFSETFROM:-0500
TZOFFSETTO:-0600
TZNAME:CST
DTSTART:20241103T070000
END:STANDARD
BEGIN:DAYLIGHT
TZOFFSETFROM:-0600
TZOFFSETTO:-0500
TZNAME:CDT
DTSTART:20250309T080000
END:DAYLIGHT
BEGIN:STANDARD
TZOFFSETFROM:-0500
TZOFFSETTO:-0600
TZNAME:CST
DTSTART:20251102T070000
END:STANDARD
END:VTIMEZONE
BEGIN:VEVENT
DTSTART;TZID=America/Chicago:20241010T090000
DTEND;TZID=America/Chicago:20241017T193000
DTSTAMP:20260425T093107
CREATED:20240820T032707Z
LAST-MODIFIED:20240820T032707Z
UID:10003090-1728550800-1729193400@marshallradio.net
SUMMARY:Bids Against Abuse - Online
DESCRIPTION:
URL:https://marshallradio.net/event/bids-against-abuse-online/
LOCATION:MN
CATEGORIES:Community,Event
END:VEVENT
BEGIN:VEVENT
DTSTART;TZID=America/Chicago:20241012T093000
DTEND;TZID=America/Chicago:20241012T160000
DTSTAMP:20260425T093107
CREATED:20240930T062752Z
LAST-MODIFIED:20240930T062752Z
UID:10003174-1728725400-1728748800@marshallradio.net
SUMMARY:Thread Benders Quilt Guild Show
DESCRIPTION:Thread Benders 21st Quilt & Trunk Show at the Adult Community Center in Marshall \nSaturday\, October 12th from 9:30 AM to 4:00 PM \nSunday\, October 13th from 12:00 – 4:00 PM \n$5 admission – included with your admission is a TRUNK SHOW Featuring Bev Krog on Saturday\, October 13th at 10:00 AM and 1:30 PM.
URL:https://marshallradio.net/event/thread-benders-quilt-guild-show/
LOCATION:Marshall Adult Community Center\, 107 S. 4th Street\, Marshall\, Minnesota\, 562585\, United States
CATEGORIES:Community,Event
END:VEVENT
BEGIN:VEVENT
DTSTART;TZID=America/Chicago:20241012T160000
DTEND;TZID=America/Chicago:20241012T210000
DTSTAMP:20260425T093107
CREATED:20240828T145200Z
LAST-MODIFIED:20240828T145200Z
UID:10003121-1728748800-1728766800@marshallradio.net
SUMMARY:SMSU Football vs. Wayne State on KARL 105.1
DESCRIPTION:
URL:https://marshallradio.net/event/smsu-football-vs-wayne-state-on-karl-105-1/
LOCATION:MN
CATEGORIES:Broadcast
ATTACH;FMTTYPE=image/png:https://marshallradio.net/wp-content/uploads/2024/08/smsu.png
END:VEVENT
END:VCALENDAR